BEGIN:VCALENDAR
VERSION:2.0
PRODID:-//jEvents 2.0 for Joomla//EN
CALSCALE:GREGORIAN
METHOD:PUBLISH
BEGIN:VTIMEZONE
TZID:Europe/Berlin
BEGIN:STANDARD
DTSTART:20251026T020000
RDATE:20260329T030000
TZOFFSETFROM:+0200
TZOFFSETTO:+0100
TZNAME:Europe/Berlin CET
END:STANDARD
BEGIN:STANDARD
DTSTART:20261025T020000
RDATE:20270328T030000
TZOFFSETFROM:+0200
TZOFFSETTO:+0100
TZNAME:Europe/Berlin CET
END:STANDARD
BEGIN:STANDARD
DTSTART:20271031T020000
RDATE:20280326T030000
TZOFFSETFROM:+0200
TZOFFSETTO:+0100
TZNAME:Europe/Berlin CET
END:STANDARD
BEGIN:DAYLIGHT
DTSTART:20250611T190000
RDATE:20251026T020000
TZOFFSETFROM:+0100
TZOFFSETTO:+0200
TZNAME:Europe/Berlin CEST
END:DAYLIGHT
BEGIN:DAYLIGHT
DTSTART:20260329T030000
RDATE:20261025T020000
TZOFFSETFROM:+0100
TZOFFSETTO:+0200
TZNAME:Europe/Berlin CEST
END:DAYLIGHT
BEGIN:DAYLIGHT
DTSTART:20270328T030000
RDATE:20271031T020000
TZOFFSETFROM:+0100
TZOFFSETTO:+0200
TZNAME:Europe/Berlin CEST
END:DAYLIGHT
END:VTIMEZONE
BEGIN:VEVENT
UID:1767280060297-1368566@ical.marudot.com
CATEGORIES:Einsatzabteilung Lang-Göns
CREATED:20260101T161940
SUMMARY:Vegetationsbrand
URL;VALUE=URI:https://feuerwehr-langgoens.de/einsatzabteilung/uebungsplaene-einsatzabteil
 ung/icalrepeat.detail/2026/06/12/1895/-/vegetationsbrand?tmpl=component
DESCRIPTION:Ausbilder: Thorn, L. <a href="https://feuerwehr-langgoens.de/einsatzabteilu
 ng/uebungsplaene-einsatzabteilung/icalrepeat.detail/2026/06/12/1895/-/veget
 ationsbrand?tmpl=component">Dieser Event wurde importiert von: https://feue
 rwehr-langgoens.de/einsatzabteilung/uebungsplaene-einsatzabteilung/icalrepe
 at.detail/2026/06/12/1895/-/vegetationsbrand?tmpl=component</a>DTSTAMP:20260421T203328
DTSTART;TZID=Europe/Berlin:20260612T190000
DTEND;TZID=Europe/Berlin:20260612T210000
SEQUENCE:0
TRANSP:OPAQUE
END:VEVENT
END:VCALENDAR