BEGIN:VCALENDAR
VERSION:2.0
PRODID:-//jEvents 2.0 for Joomla//EN
CALSCALE:GREGORIAN
METHOD:PUBLISH
BEGIN:VTIMEZONE
TZID:Europe/Berlin
BEGIN:STANDARD
DTSTART:20251026T020000
RDATE:20260329T030000
TZOFFSETFROM:+0200
TZOFFSETTO:+0100
TZNAME:Europe/Berlin CET
END:STANDARD
BEGIN:STANDARD
DTSTART:20261025T020000
RDATE:20270328T030000
TZOFFSETFROM:+0200
TZOFFSETTO:+0100
TZNAME:Europe/Berlin CET
END:STANDARD
BEGIN:STANDARD
DTSTART:20271031T020000
RDATE:20280326T030000
TZOFFSETFROM:+0200
TZOFFSETTO:+0100
TZNAME:Europe/Berlin CET
END:STANDARD
BEGIN:DAYLIGHT
DTSTART:20250709T190000
RDATE:20251026T020000
TZOFFSETFROM:+0100
TZOFFSETTO:+0200
TZNAME:Europe/Berlin CEST
END:DAYLIGHT
BEGIN:DAYLIGHT
DTSTART:20260329T030000
RDATE:20261025T020000
TZOFFSETFROM:+0100
TZOFFSETTO:+0200
TZNAME:Europe/Berlin CEST
END:DAYLIGHT
BEGIN:DAYLIGHT
DTSTART:20270328T030000
RDATE:20271031T020000
TZOFFSETFROM:+0100
TZOFFSETTO:+0200
TZNAME:Europe/Berlin CEST
END:DAYLIGHT
END:VTIMEZONE
BEGIN:VEVENT
UID:1767280060297-9265805@ical.marudot.com
CATEGORIES:Einsatzabteilung Lang-Göns
CREATED:20260101T161940
SUMMARY:Brandbekämpfung Elektro Anlagen
URL;VALUE=URI:https://feuerwehr-langgoens.de/einsatzabteilung/uebungsplaene-einsatzabteil
 ung/icalrepeat.detail/2026/07/10/1897/-/brandbekaempfung-elektro-anlagen?tm
 pl=component
DESCRIPTION:Ausbilder: Herget, Hofmann Dieser Event wurde importiert von: https://feuer
 wehr-langgoens.de/einsatzabteilung/uebungsplaene-einsatzabteilung/icalrepea
 t.detail/2026/07/10/1897/-/brandbekaempfung-elektro-anlagen?tmpl=component
X-ALT-DESC;FMTTYPE=text/html:Ausbilder: Herget, Hofmann <a href="https://feuerwehr-langgoens.de/einsatza
 bteilung/uebungsplaene-einsatzabteilung/icalrepeat.detail/2026/07/10/1897/-
 /brandbekaempfung-elektro-anlagen?tmpl=component">Dieser Event wurde import
 iert von: https://feuerwehr-langgoens.de/einsatzabteilung/uebungsplaene-ein
 satzabteilung/icalrepeat.detail/2026/07/10/1897/-/brandbekaempfung-elektro-
 anlagen?tmpl=component</a>DTSTAMP:20260421T215907
DTSTART;TZID=Europe/Berlin:20260710T190000
DTEND;TZID=Europe/Berlin:20260710T210000
SEQUENCE:0
TRANSP:OPAQUE
END:VEVENT
END:VCALENDAR