BEGIN:VCALENDAR
VERSION:2.0
PRODID:-//jEvents 2.0 for Joomla//EN
CALSCALE:GREGORIAN
METHOD:PUBLISH
BEGIN:VTIMEZONE
TZID:Europe/Berlin
BEGIN:STANDARD
DTSTART:20251026T020000
RDATE:20260329T030000
TZOFFSETFROM:+0200
TZOFFSETTO:+0100
TZNAME:Europe/Berlin CET
END:STANDARD
BEGIN:STANDARD
DTSTART:20261025T020000
RDATE:20270328T030000
TZOFFSETFROM:+0200
TZOFFSETTO:+0100
TZNAME:Europe/Berlin CET
END:STANDARD
BEGIN:STANDARD
DTSTART:20271031T020000
RDATE:20280326T030000
TZOFFSETFROM:+0200
TZOFFSETTO:+0100
TZNAME:Europe/Berlin CET
END:STANDARD
BEGIN:DAYLIGHT
DTSTART:20251001T190000
RDATE:20251026T020000
TZOFFSETFROM:+0100
TZOFFSETTO:+0200
TZNAME:Europe/Berlin CEST
END:DAYLIGHT
BEGIN:DAYLIGHT
DTSTART:20260329T030000
RDATE:20261025T020000
TZOFFSETFROM:+0100
TZOFFSETTO:+0200
TZNAME:Europe/Berlin CEST
END:DAYLIGHT
BEGIN:DAYLIGHT
DTSTART:20270328T030000
RDATE:20271031T020000
TZOFFSETFROM:+0100
TZOFFSETTO:+0200
TZNAME:Europe/Berlin CEST
END:DAYLIGHT
END:VTIMEZONE
BEGIN:VEVENT
UID:1767280060297-6700749@ical.marudot.com
CATEGORIES:Einsatzabteilung Lang-Göns
CREATED:20260101T161940
SUMMARY:Gemeinschaftsübung Leihgestern, Hüttenberg
URL;VALUE=URI:https://feuerwehr-langgoens.de/einsatzabteilung/uebungsplaene-einsatzabteil
 ung/icalrepeat.detail/2026/10/02/1904/-/gemeinschaftsuebung-leihgestern-hue
 ttenberg?tmpl=component
DESCRIPTION:Ausbilder: Faber, S. Dieser Event wurde importiert von: https://feuerwehr-l
 anggoens.de/einsatzabteilung/uebungsplaene-einsatzabteilung/icalrepeat.deta
 il/2026/10/02/1904/-/gemeinschaftsuebung-leihgestern-huettenberg?tmpl=compo
 nent
X-ALT-DESC;FMTTYPE=text/html:Ausbilder: Faber, S. <a href="https://feuerwehr-langgoens.de/einsatzabteilu
 ng/uebungsplaene-einsatzabteilung/icalrepeat.detail/2026/10/02/1904/-/gemei
 nschaftsuebung-leihgestern-huettenberg?tmpl=component">Dieser Event wurde i
 mportiert von: https://feuerwehr-langgoens.de/einsatzabteilung/uebungsplaen
 e-einsatzabteilung/icalrepeat.detail/2026/10/02/1904/-/gemeinschaftsuebung-
 leihgestern-huettenberg?tmpl=component</a>DTSTAMP:20260421T203254
DTSTART;TZID=Europe/Berlin:20261002T190000
DTEND;TZID=Europe/Berlin:20261002T210000
SEQUENCE:0
TRANSP:OPAQUE
END:VEVENT
END:VCALENDAR