BEGIN:VCALENDAR
VERSION:2.0
PRODID:-//jEvents 2.0 for Joomla//EN
CALSCALE:GREGORIAN
METHOD:PUBLISH
BEGIN:VTIMEZONE
TZID:Europe/Berlin
BEGIN:STANDARD
DTSTART:20251026T020000
RDATE:20260329T030000
TZOFFSETFROM:+0200
TZOFFSETTO:+0100
TZNAME:Europe/Berlin CET
END:STANDARD
BEGIN:STANDARD
DTSTART:20261025T020000
RDATE:20270328T030000
TZOFFSETFROM:+0200
TZOFFSETTO:+0100
TZNAME:Europe/Berlin CET
END:STANDARD
BEGIN:STANDARD
DTSTART:20271031T020000
RDATE:20280326T030000
TZOFFSETFROM:+0200
TZOFFSETTO:+0100
TZNAME:Europe/Berlin CET
END:STANDARD
BEGIN:DAYLIGHT
DTSTART:20250507T190000
RDATE:20251026T020000
TZOFFSETFROM:+0100
TZOFFSETTO:+0200
TZNAME:Europe/Berlin CEST
END:DAYLIGHT
BEGIN:DAYLIGHT
DTSTART:20260329T030000
RDATE:20261025T020000
TZOFFSETFROM:+0100
TZOFFSETTO:+0200
TZNAME:Europe/Berlin CEST
END:DAYLIGHT
BEGIN:DAYLIGHT
DTSTART:20270328T030000
RDATE:20271031T020000
TZOFFSETFROM:+0100
TZOFFSETTO:+0200
TZNAME:Europe/Berlin CEST
END:DAYLIGHT
END:VTIMEZONE
BEGIN:VEVENT
UID:1767280338798-2188389@ical.marudot.com
CATEGORIES:Einsatzabteilung Niederkleen
CREATED:20260101T161949
SUMMARY:FwDV 3 – Lösch- und Hilfeleistungseinsatz
URL;VALUE=URI:https://feuerwehr-langgoens.de/einsatzabteilung/uebungsplaene-einsatzabteil
 ung/icalrepeat.detail/2026/05/08/1920/-/fwdv-3-loesch-und-hilfeleistungsein
 satz?tmpl=component
DESCRIPTION:Ausbilder: Vogt <a href="https://feuerwehr-langgoens.de/einsatzabteilung/ue
 bungsplaene-einsatzabteilung/icalrepeat.detail/2026/05/08/1920/-/fwdv-3-loe
 sch-und-hilfeleistungseinsatz?tmpl=component">Dieser Event wurde importiert
  von: https://feuerwehr-langgoens.de/einsatzabteilung/uebungsplaene-einsatz
 abteilung/icalrepeat.detail/2026/05/08/1920/-/fwdv-3-loesch-und-hilfeleistu
 ngseinsatz?tmpl=component</a>DTSTAMP:20260421T204015
DTSTART;TZID=Europe/Berlin:20260508T190000
DTEND;TZID=Europe/Berlin:20260508T213000
SEQUENCE:0
TRANSP:OPAQUE
END:VEVENT
END:VCALENDAR