BEGIN:VCALENDAR
VERSION:2.0
PRODID:-//jEvents 2.0 for Joomla//EN
CALSCALE:GREGORIAN
METHOD:PUBLISH
BEGIN:VTIMEZONE
TZID:Europe/Berlin
BEGIN:STANDARD
DTSTART:20251026T020000
RDATE:20260329T030000
TZOFFSETFROM:+0200
TZOFFSETTO:+0100
TZNAME:Europe/Berlin CET
END:STANDARD
BEGIN:STANDARD
DTSTART:20261025T020000
RDATE:20270328T030000
TZOFFSETFROM:+0200
TZOFFSETTO:+0100
TZNAME:Europe/Berlin CET
END:STANDARD
BEGIN:STANDARD
DTSTART:20271031T020000
RDATE:20280326T030000
TZOFFSETFROM:+0200
TZOFFSETTO:+0100
TZNAME:Europe/Berlin CET
END:STANDARD
BEGIN:DAYLIGHT
DTSTART:20250611T190000
RDATE:20251026T020000
TZOFFSETFROM:+0100
TZOFFSETTO:+0200
TZNAME:Europe/Berlin CEST
END:DAYLIGHT
BEGIN:DAYLIGHT
DTSTART:20260329T030000
RDATE:20261025T020000
TZOFFSETFROM:+0100
TZOFFSETTO:+0200
TZNAME:Europe/Berlin CEST
END:DAYLIGHT
BEGIN:DAYLIGHT
DTSTART:20270328T030000
RDATE:20271031T020000
TZOFFSETFROM:+0100
TZOFFSETTO:+0200
TZNAME:Europe/Berlin CEST
END:DAYLIGHT
END:VTIMEZONE
BEGIN:VEVENT
UID:1767280338798-5083174@ical.marudot.com
CATEGORIES:Einsatzabteilung Niederkleen
CREATED:20260101T161949
SUMMARY:Teambuilding in der Feuerwehr
URL;VALUE=URI:https://feuerwehr-langgoens.de/einsatzabteilung/uebungsplaene-einsatzabteil
 ung/icalrepeat.detail/2026/06/12/1922/-/teambuilding-in-der-feuerwehr?tmpl=
 component
DESCRIPTION:Ausbilder: Jung / Schaffranke Dieser Event wurde importiert von: https://fe
 uerwehr-langgoens.de/einsatzabteilung/uebungsplaene-einsatzabteilung/icalre
 peat.detail/2026/06/12/1922/-/teambuilding-in-der-feuerwehr?tmpl=component
X-ALT-DESC;FMTTYPE=text/html:Ausbilder: Jung / Schaffranke <a href="https://feuerwehr-langgoens.de/einsa
 tzabteilung/uebungsplaene-einsatzabteilung/icalrepeat.detail/2026/06/12/192
 2/-/teambuilding-in-der-feuerwehr?tmpl=component">Dieser Event wurde import
 iert von: https://feuerwehr-langgoens.de/einsatzabteilung/uebungsplaene-ein
 satzabteilung/icalrepeat.detail/2026/06/12/1922/-/teambuilding-in-der-feuer
 wehr?tmpl=component</a>DTSTAMP:20260421T203303
DTSTART;TZID=Europe/Berlin:20260612T190000
DTEND;TZID=Europe/Berlin:20260612T213000
SEQUENCE:0
TRANSP:OPAQUE
END:VEVENT
END:VCALENDAR