BEGIN:VCALENDAR
VERSION:2.0
PRODID:-//jEvents 2.0 for Joomla//EN
CALSCALE:GREGORIAN
METHOD:PUBLISH
BEGIN:VTIMEZONE
TZID:Europe/Berlin
BEGIN:STANDARD
DTSTART:20251026T020000
RDATE:20260329T030000
TZOFFSETFROM:+0200
TZOFFSETTO:+0100
TZNAME:Europe/Berlin CET
END:STANDARD
BEGIN:STANDARD
DTSTART:20261025T020000
RDATE:20270328T030000
TZOFFSETFROM:+0200
TZOFFSETTO:+0100
TZNAME:Europe/Berlin CET
END:STANDARD
BEGIN:STANDARD
DTSTART:20271031T020000
RDATE:20280326T030000
TZOFFSETFROM:+0200
TZOFFSETTO:+0100
TZNAME:Europe/Berlin CET
END:STANDARD
BEGIN:DAYLIGHT
DTSTART:20251015T190000
RDATE:20251026T020000
TZOFFSETFROM:+0100
TZOFFSETTO:+0200
TZNAME:Europe/Berlin CEST
END:DAYLIGHT
BEGIN:DAYLIGHT
DTSTART:20260329T030000
RDATE:20261025T020000
TZOFFSETFROM:+0100
TZOFFSETTO:+0200
TZNAME:Europe/Berlin CEST
END:DAYLIGHT
BEGIN:DAYLIGHT
DTSTART:20270328T030000
RDATE:20271031T020000
TZOFFSETFROM:+0100
TZOFFSETTO:+0200
TZNAME:Europe/Berlin CEST
END:DAYLIGHT
END:VTIMEZONE
BEGIN:VEVENT
UID:1767280338798-3719772@ical.marudot.com
CATEGORIES:Einsatzabteilung Niederkleen
CREATED:20260101T161949
SUMMARY:Mechanik in der Feuerwehr
URL;VALUE=URI:https://feuerwehr-langgoens.de/einsatzabteilung/uebungsplaene-einsatzabteil
 ung/icalrepeat.detail/2026/10/16/1932/-/mechanik-in-der-feuerwehr?tmpl=comp
 onent
DESCRIPTION:Ausbilder: Senger <a href="https://feuerwehr-langgoens.de/einsatzabteilung/
 uebungsplaene-einsatzabteilung/icalrepeat.detail/2026/10/16/1932/-/mechanik
 -in-der-feuerwehr?tmpl=component">Dieser Event wurde importiert von: https:
 //feuerwehr-langgoens.de/einsatzabteilung/uebungsplaene-einsatzabteilung/ic
 alrepeat.detail/2026/10/16/1932/-/mechanik-in-der-feuerwehr?tmpl=component<
 /a>DTSTAMP:20260421T204811
DTSTART;TZID=Europe/Berlin:20261016T190000
DTEND;TZID=Europe/Berlin:20261016T213000
SEQUENCE:0
TRANSP:OPAQUE
END:VEVENT
END:VCALENDAR