BEGIN:VCALENDAR
VERSION:2.0
PRODID:-//jEvents 2.0 for Joomla//EN
CALSCALE:GREGORIAN
METHOD:PUBLISH
BEGIN:VTIMEZONE
TZID:Europe/Berlin
BEGIN:STANDARD
DTSTART:20251126T190000
RDATE:20260329T030000
TZOFFSETFROM:+0200
TZOFFSETTO:+0100
TZNAME:Europe/Berlin CET
END:STANDARD
BEGIN:STANDARD
DTSTART:20261025T020000
RDATE:20270328T030000
TZOFFSETFROM:+0200
TZOFFSETTO:+0100
TZNAME:Europe/Berlin CET
END:STANDARD
BEGIN:STANDARD
DTSTART:20271031T020000
RDATE:20280326T030000
TZOFFSETFROM:+0200
TZOFFSETTO:+0100
TZNAME:Europe/Berlin CET
END:STANDARD
BEGIN:DAYLIGHT
DTSTART:20260329T030000
RDATE:20261025T020000
TZOFFSETFROM:+0100
TZOFFSETTO:+0200
TZNAME:Europe/Berlin CEST
END:DAYLIGHT
BEGIN:DAYLIGHT
DTSTART:20270328T030000
RDATE:20271031T020000
TZOFFSETFROM:+0100
TZOFFSETTO:+0200
TZNAME:Europe/Berlin CEST
END:DAYLIGHT
END:VTIMEZONE
BEGIN:VEVENT
UID:1767280338798-1815854@ical.marudot.com
CATEGORIES:Einsatzabteilung Niederkleen
CREATED:20260101T161949
SUMMARY:Digitalfunk / Verhalten im Einsatz / DA
URL;VALUE=URI:https://feuerwehr-langgoens.de/einsatzabteilung/uebungsplaene-einsatzabteil
 ung/icalrepeat.detail/2026/11/27/1935/-/digitalfunk-verhalten-im-einsatz-da
 ?tmpl=component
DESCRIPTION:Ausbilder: Senger / Vogt <a href="https://feuerwehr-langgoens.de/einsatzabt
 eilung/uebungsplaene-einsatzabteilung/icalrepeat.detail/2026/11/27/1935/-/d
 igitalfunk-verhalten-im-einsatz-da?tmpl=component">Dieser Event wurde impor
 tiert von: https://feuerwehr-langgoens.de/einsatzabteilung/uebungsplaene-ei
 nsatzabteilung/icalrepeat.detail/2026/11/27/1935/-/digitalfunk-verhalten-im
 -einsatz-da?tmpl=component</a>DTSTAMP:20260421T203328
DTSTART;TZID=Europe/Berlin:20261127T190000
DTEND;TZID=Europe/Berlin:20261127T213000
SEQUENCE:0
TRANSP:OPAQUE
END:VEVENT
END:VCALENDAR