BEGIN:VCALENDAR
VERSION:2.0
PRODID:-//jEvents 2.0 for Joomla//EN
CALSCALE:GREGORIAN
METHOD:PUBLISH
BEGIN:VTIMEZONE
TZID:Europe/Berlin
BEGIN:STANDARD
DTSTART:20251026T020000
RDATE:20260329T030000
TZOFFSETFROM:+0200
TZOFFSETTO:+0100
TZNAME:Europe/Berlin CET
END:STANDARD
BEGIN:STANDARD
DTSTART:20261025T020000
RDATE:20270328T030000
TZOFFSETFROM:+0200
TZOFFSETTO:+0100
TZNAME:Europe/Berlin CET
END:STANDARD
BEGIN:STANDARD
DTSTART:20271031T020000
RDATE:20280326T030000
TZOFFSETFROM:+0200
TZOFFSETTO:+0100
TZNAME:Europe/Berlin CET
END:STANDARD
BEGIN:DAYLIGHT
DTSTART:20250511T183000
RDATE:20251026T020000
TZOFFSETFROM:+0100
TZOFFSETTO:+0200
TZNAME:Europe/Berlin CEST
END:DAYLIGHT
BEGIN:DAYLIGHT
DTSTART:20260329T030000
RDATE:20261025T020000
TZOFFSETFROM:+0100
TZOFFSETTO:+0200
TZNAME:Europe/Berlin CEST
END:DAYLIGHT
BEGIN:DAYLIGHT
DTSTART:20270328T030000
RDATE:20271031T020000
TZOFFSETFROM:+0100
TZOFFSETTO:+0200
TZNAME:Europe/Berlin CEST
END:DAYLIGHT
END:VTIMEZONE
BEGIN:VEVENT
UID:1768932622539-2394336@ical.marudot.com
CATEGORIES:Einsatzabteilung Cleeberg
CREATED:20260120T191312
SUMMARY:Löscheinsatz
URL;VALUE=URI:https://feuerwehr-langgoens.de/einsatzabteilung/uebungsplaene-einsatzabteil
 ung/icalrepeat.detail/2026/05/12/2000/-/loescheinsatz?tmpl=component
DESCRIPTION:Ausbilder: B. Lang Dienst: J. Watz Dieser Event wurde importiert von: https
 ://feuerwehr-langgoens.de/einsatzabteilung/uebungsplaene-einsatzabteilung/i
 calrepeat.detail/2026/05/12/2000/-/loescheinsatz?tmpl=component
X-ALT-DESC;FMTTYPE=text/html:Ausbilder: B. Lang Dienst: J. Watz <a href="https://feuerwehr-langgoens.de/
 einsatzabteilung/uebungsplaene-einsatzabteilung/icalrepeat.detail/2026/05/1
 2/2000/-/loescheinsatz?tmpl=component">Dieser Event wurde importiert von: h
 ttps://feuerwehr-langgoens.de/einsatzabteilung/uebungsplaene-einsatzabteilu
 ng/icalrepeat.detail/2026/05/12/2000/-/loescheinsatz?tmpl=component</a>DTSTAMP:20260421T203132
DTSTART;TZID=Europe/Berlin:20260512T183000
DTEND;TZID=Europe/Berlin:20260512T203000
SEQUENCE:0
TRANSP:OPAQUE
END:VEVENT
END:VCALENDAR