BEGIN:VCALENDAR
VERSION:2.0
PRODID:-//jEvents 2.0 for Joomla//EN
CALSCALE:GREGORIAN
METHOD:PUBLISH
BEGIN:VTIMEZONE
TZID:Europe/Berlin
BEGIN:STANDARD
DTSTART:20251026T020000
RDATE:20260329T030000
TZOFFSETFROM:+0200
TZOFFSETTO:+0100
TZNAME:Europe/Berlin CET
END:STANDARD
BEGIN:STANDARD
DTSTART:20261025T020000
RDATE:20270328T030000
TZOFFSETFROM:+0200
TZOFFSETTO:+0100
TZNAME:Europe/Berlin CET
END:STANDARD
BEGIN:STANDARD
DTSTART:20271031T020000
RDATE:20280326T030000
TZOFFSETFROM:+0200
TZOFFSETTO:+0100
TZNAME:Europe/Berlin CET
END:STANDARD
BEGIN:DAYLIGHT
DTSTART:20250720T183000
RDATE:20251026T020000
TZOFFSETFROM:+0100
TZOFFSETTO:+0200
TZNAME:Europe/Berlin CEST
END:DAYLIGHT
BEGIN:DAYLIGHT
DTSTART:20260329T030000
RDATE:20261025T020000
TZOFFSETFROM:+0100
TZOFFSETTO:+0200
TZNAME:Europe/Berlin CEST
END:DAYLIGHT
BEGIN:DAYLIGHT
DTSTART:20270328T030000
RDATE:20271031T020000
TZOFFSETFROM:+0100
TZOFFSETTO:+0200
TZNAME:Europe/Berlin CEST
END:DAYLIGHT
END:VTIMEZONE
BEGIN:VEVENT
UID:1768932622539-8621960@ical.marudot.com
CATEGORIES:Einsatzabteilung Cleeberg
CREATED:20260120T191312
SUMMARY:Übung Vegetationsbrand
URL;VALUE=URI:https://feuerwehr-langgoens.de/einsatzabteilung/uebungsplaene-einsatzabteil
 ung/icalrepeat.detail/2026/07/21/2005/-/uebung-vegetationsbrand?tmpl=compon
 ent
DESCRIPTION:Ausbilder: R. Neuhof Dienst: A. Patzelt Wagner <a href="https://feuerwehr-l
 anggoens.de/einsatzabteilung/uebungsplaene-einsatzabteilung/icalrepeat.deta
 il/2026/07/21/2005/-/uebung-vegetationsbrand?tmpl=component">Dieser Event w
 urde importiert von: https://feuerwehr-langgoens.de/einsatzabteilung/uebung
 splaene-einsatzabteilung/icalrepeat.detail/2026/07/21/2005/-/uebung-vegetat
 ionsbrand?tmpl=component</a>DTSTAMP:20260421T203323
DTSTART;TZID=Europe/Berlin:20260721T183000
DTEND;TZID=Europe/Berlin:20260721T213000
SEQUENCE:0
TRANSP:OPAQUE
END:VEVENT
END:VCALENDAR