BEGIN:VCALENDAR
VERSION:2.0
PRODID:-//jEvents 2.0 for Joomla//EN
CALSCALE:GREGORIAN
METHOD:PUBLISH
BEGIN:VTIMEZONE
TZID:Europe/Berlin
BEGIN:STANDARD
DTSTART:20251026T020000
RDATE:20260329T030000
TZOFFSETFROM:+0200
TZOFFSETTO:+0100
TZNAME:Europe/Berlin CET
END:STANDARD
BEGIN:STANDARD
DTSTART:20261025T020000
RDATE:20270328T030000
TZOFFSETFROM:+0200
TZOFFSETTO:+0100
TZNAME:Europe/Berlin CET
END:STANDARD
BEGIN:STANDARD
DTSTART:20271031T020000
RDATE:20280326T030000
TZOFFSETFROM:+0200
TZOFFSETTO:+0100
TZNAME:Europe/Berlin CET
END:STANDARD
BEGIN:DAYLIGHT
DTSTART:20251012T183000
RDATE:20251026T020000
TZOFFSETFROM:+0100
TZOFFSETTO:+0200
TZNAME:Europe/Berlin CEST
END:DAYLIGHT
BEGIN:DAYLIGHT
DTSTART:20260329T030000
RDATE:20261025T020000
TZOFFSETFROM:+0100
TZOFFSETTO:+0200
TZNAME:Europe/Berlin CEST
END:DAYLIGHT
BEGIN:DAYLIGHT
DTSTART:20270328T030000
RDATE:20271031T020000
TZOFFSETFROM:+0100
TZOFFSETTO:+0200
TZNAME:Europe/Berlin CEST
END:DAYLIGHT
END:VTIMEZONE
BEGIN:VEVENT
UID:1768932622539-8851838@ical.marudot.com
CATEGORIES:Einsatzabteilung Cleeberg
CREATED:20260120T191312
SUMMARY:Verhalten bei Gefahr
URL;VALUE=URI:https://feuerwehr-langgoens.de/einsatzabteilung/uebungsplaene-einsatzabteil
 ung/icalrepeat.detail/2026/10/13/2012/-/verhalten-bei-gefahr?tmpl=component
DESCRIPTION:Ausbilder: M. Jung Dienst: R. Neuhof Dieser Event wurde importiert von: htt
 ps://feuerwehr-langgoens.de/einsatzabteilung/uebungsplaene-einsatzabteilung
 /icalrepeat.detail/2026/10/13/2012/-/verhalten-bei-gefahr?tmpl=component
X-ALT-DESC;FMTTYPE=text/html:Ausbilder: M. Jung Dienst: R. Neuhof <a href="https://feuerwehr-langgoens.d
 e/einsatzabteilung/uebungsplaene-einsatzabteilung/icalrepeat.detail/2026/10
 /13/2012/-/verhalten-bei-gefahr?tmpl=component">Dieser Event wurde importie
 rt von: https://feuerwehr-langgoens.de/einsatzabteilung/uebungsplaene-einsa
 tzabteilung/icalrepeat.detail/2026/10/13/2012/-/verhalten-bei-gefahr?tmpl=c
 omponent</a>DTSTAMP:20260421T203131
DTSTART;TZID=Europe/Berlin:20261013T183000
DTEND;TZID=Europe/Berlin:20261013T203000
SEQUENCE:0
TRANSP:OPAQUE
END:VEVENT
END:VCALENDAR