BEGIN:VCALENDAR
VERSION:2.0
PRODID:-//jEvents 2.0 for Joomla//EN
CALSCALE:GREGORIAN
METHOD:PUBLISH
BEGIN:VTIMEZONE
TZID:Europe/Berlin
BEGIN:STANDARD
DTSTART:20251113T170000
RDATE:20260329T030000
TZOFFSETFROM:+0200
TZOFFSETTO:+0100
TZNAME:Europe/Berlin CET
END:STANDARD
BEGIN:STANDARD
DTSTART:20261025T020000
RDATE:20270328T030000
TZOFFSETFROM:+0200
TZOFFSETTO:+0100
TZNAME:Europe/Berlin CET
END:STANDARD
BEGIN:STANDARD
DTSTART:20271031T020000
RDATE:20280326T030000
TZOFFSETFROM:+0200
TZOFFSETTO:+0100
TZNAME:Europe/Berlin CET
END:STANDARD
BEGIN:DAYLIGHT
DTSTART:20260329T030000
RDATE:20261025T020000
TZOFFSETFROM:+0100
TZOFFSETTO:+0200
TZNAME:Europe/Berlin CEST
END:DAYLIGHT
BEGIN:DAYLIGHT
DTSTART:20270328T030000
RDATE:20271031T020000
TZOFFSETFROM:+0100
TZOFFSETTO:+0200
TZNAME:Europe/Berlin CEST
END:DAYLIGHT
END:VTIMEZONE
BEGIN:VEVENT
UID:1768932622539-9306208@ical.marudot.com
CATEGORIES:Einsatzabteilung Cleeberg
CREATED:20260120T191312
SUMMARY:Nachtübung mit Oberkleen in Cleeberg
URL;VALUE=URI:https://feuerwehr-langgoens.de/einsatzabteilung/uebungsplaene-einsatzabteil
 ung/icalrepeat.detail/2026/11/14/2016/-/nachtuebung-mit-oberkleen-in-cleebe
 rg?tmpl=component
DESCRIPTION: <a href="https://feuerwehr-langgoens.de/einsatzabteilung/uebungsplaene-ein
 satzabteilung/icalrepeat.detail/2026/11/14/2016/-/nachtuebung-mit-oberkleen
 -in-cleeberg?tmpl=component">Dieser Event wurde importiert von: https://feu
 erwehr-langgoens.de/einsatzabteilung/uebungsplaene-einsatzabteilung/icalrep
 eat.detail/2026/11/14/2016/-/nachtuebung-mit-oberkleen-in-cleeberg?tmpl=com
 ponent</a>DTSTAMP:20260423T092925
DTSTART;TZID=Europe/Berlin:20261114T170000
DTEND;TZID=Europe/Berlin:20261114T190000
SEQUENCE:0
TRANSP:OPAQUE
END:VEVENT
END:VCALENDAR