BEGIN:VCALENDAR
VERSION:2.0
PRODID:-//jEvents 2.0 for Joomla//EN
CALSCALE:GREGORIAN
METHOD:PUBLISH
BEGIN:VTIMEZONE
TZID:Europe/Berlin
BEGIN:STANDARD
DTSTART:20251026T020000
RDATE:20260329T030000
TZOFFSETFROM:+0200
TZOFFSETTO:+0100
TZNAME:Europe/Berlin CET
END:STANDARD
BEGIN:STANDARD
DTSTART:20261025T020000
RDATE:20270328T030000
TZOFFSETFROM:+0200
TZOFFSETTO:+0100
TZNAME:Europe/Berlin CET
END:STANDARD
BEGIN:STANDARD
DTSTART:20271031T020000
RDATE:20280326T030000
TZOFFSETFROM:+0200
TZOFFSETTO:+0100
TZNAME:Europe/Berlin CET
END:STANDARD
BEGIN:DAYLIGHT
DTSTART:20250501T160000
RDATE:20251026T020000
TZOFFSETFROM:+0100
TZOFFSETTO:+0200
TZNAME:Europe/Berlin CEST
END:DAYLIGHT
BEGIN:DAYLIGHT
DTSTART:20260329T030000
RDATE:20261025T020000
TZOFFSETFROM:+0100
TZOFFSETTO:+0200
TZNAME:Europe/Berlin CEST
END:DAYLIGHT
BEGIN:DAYLIGHT
DTSTART:20270328T030000
RDATE:20271031T020000
TZOFFSETFROM:+0100
TZOFFSETTO:+0200
TZNAME:Europe/Berlin CEST
END:DAYLIGHT
END:VTIMEZONE
BEGIN:VEVENT
UID:1768934212658-6634662@ical.marudot.com
CATEGORIES:Einsatzabteilung Oberkleen
CREATED:20260120T194302
SUMMARY:Zugübung mit Espa und Cleeberg in Oberkleen
URL;VALUE=URI:https://feuerwehr-langgoens.de/einsatzabteilung/uebungsplaene-einsatzabteil
 ung/icalrepeat.detail/2026/05/02/2032/-/zuguebung-mit-espa-und-cleeberg-in-
 oberkleen?tmpl=component
DESCRIPTION:Ausbilder: Brück / Häußler <a href="https://feuerwehr-langgoens.de/einsatza
 bteilung/uebungsplaene-einsatzabteilung/icalrepeat.detail/2026/05/02/2032/-
 /zuguebung-mit-espa-und-cleeberg-in-oberkleen?tmpl=component">Dieser Event 
 wurde importiert von: https://feuerwehr-langgoens.de/einsatzabteilung/uebun
 gsplaene-einsatzabteilung/icalrepeat.detail/2026/05/02/2032/-/zuguebung-mit
 -espa-und-cleeberg-in-oberkleen?tmpl=component</a>DTSTAMP:20260421T204023
DTSTART;TZID=Europe/Berlin:20260502T160000
DTEND;TZID=Europe/Berlin:20260502T180000
SEQUENCE:0
TRANSP:OPAQUE
END:VEVENT
END:VCALENDAR