BEGIN:VCALENDAR
VERSION:2.0
PRODID:-//jEvents 2.0 for Joomla//EN
CALSCALE:GREGORIAN
METHOD:PUBLISH
BEGIN:VTIMEZONE
TZID:Europe/Berlin
BEGIN:STANDARD
DTSTART:20251026T020000
RDATE:20260329T030000
TZOFFSETFROM:+0200
TZOFFSETTO:+0100
TZNAME:Europe/Berlin CET
END:STANDARD
BEGIN:STANDARD
DTSTART:20261025T020000
RDATE:20270328T030000
TZOFFSETFROM:+0200
TZOFFSETTO:+0100
TZNAME:Europe/Berlin CET
END:STANDARD
BEGIN:STANDARD
DTSTART:20271031T020000
RDATE:20280326T030000
TZOFFSETFROM:+0200
TZOFFSETTO:+0100
TZNAME:Europe/Berlin CET
END:STANDARD
BEGIN:DAYLIGHT
DTSTART:20250525T190000
RDATE:20251026T020000
TZOFFSETFROM:+0100
TZOFFSETTO:+0200
TZNAME:Europe/Berlin CEST
END:DAYLIGHT
BEGIN:DAYLIGHT
DTSTART:20260329T030000
RDATE:20261025T020000
TZOFFSETFROM:+0100
TZOFFSETTO:+0200
TZNAME:Europe/Berlin CEST
END:DAYLIGHT
BEGIN:DAYLIGHT
DTSTART:20270328T030000
RDATE:20271031T020000
TZOFFSETFROM:+0100
TZOFFSETTO:+0200
TZNAME:Europe/Berlin CEST
END:DAYLIGHT
END:VTIMEZONE
BEGIN:VEVENT
UID:1768934212658-6224277@ical.marudot.com
CATEGORIES:Einsatzabteilung Oberkleen
CREATED:20260120T194302
SUMMARY:Einsatzübung FwDV 7
URL;VALUE=URI:https://feuerwehr-langgoens.de/einsatzabteilung/uebungsplaene-einsatzabteil
 ung/icalrepeat.detail/2026/05/26/2033/-/einsatzuebung-fwdv-7?tmpl=component
DESCRIPTION:Ausbilder: Bittroff Dieser Event wurde importiert von: https://feuerwehr-la
 nggoens.de/einsatzabteilung/uebungsplaene-einsatzabteilung/icalrepeat.detai
 l/2026/05/26/2033/-/einsatzuebung-fwdv-7?tmpl=component (https://feuerwehr-
 langgoens.de/einsatzabteilung/uebungsplaene-einsatzabteilung/icalrepeat.det
 ail/2026/05/26/2033/-/einsatzuebung-fwdv-7?tmpl=component)
X-ALT-DESC;FMTTYPE=text/html:Ausbilder: Bittroff <a href="https://feuerwehr-langgoens.de/einsatzabteilun
 g/uebungsplaene-einsatzabteilung/icalrepeat.detail/2026/05/26/2033/-/einsat
 zuebung-fwdv-7?tmpl=component">Dieser Event wurde importiert von: https://f
 euerwehr-langgoens.de/einsatzabteilung/uebungsplaene-einsatzabteilung/icalr
 epeat.detail/2026/05/26/2033/-/einsatzuebung-fwdv-7?tmpl=component</a>DTSTAMP:20260421T215805
DTSTART;TZID=Europe/Berlin:20260526T190000
DTEND;TZID=Europe/Berlin:20260526T210000
SEQUENCE:0
TRANSP:OPAQUE
END:VEVENT
END:VCALENDAR