BEGIN:VCALENDAR
VERSION:2.0
PRODID:-//jEvents 2.0 for Joomla//EN
CALSCALE:GREGORIAN
METHOD:PUBLISH
BEGIN:VTIMEZONE
TZID:Europe/Berlin
BEGIN:STANDARD
DTSTART:20251026T020000
RDATE:20260329T030000
TZOFFSETFROM:+0200
TZOFFSETTO:+0100
TZNAME:Europe/Berlin CET
END:STANDARD
BEGIN:STANDARD
DTSTART:20261025T020000
RDATE:20270328T030000
TZOFFSETFROM:+0200
TZOFFSETTO:+0100
TZNAME:Europe/Berlin CET
END:STANDARD
BEGIN:STANDARD
DTSTART:20271031T020000
RDATE:20280326T030000
TZOFFSETFROM:+0200
TZOFFSETTO:+0100
TZNAME:Europe/Berlin CET
END:STANDARD
BEGIN:DAYLIGHT
DTSTART:20250515T160000
RDATE:20251026T020000
TZOFFSETFROM:+0100
TZOFFSETTO:+0200
TZNAME:Europe/Berlin CEST
END:DAYLIGHT
BEGIN:DAYLIGHT
DTSTART:20260329T030000
RDATE:20261025T020000
TZOFFSETFROM:+0100
TZOFFSETTO:+0200
TZNAME:Europe/Berlin CEST
END:DAYLIGHT
BEGIN:DAYLIGHT
DTSTART:20270328T030000
RDATE:20271031T020000
TZOFFSETFROM:+0100
TZOFFSETTO:+0200
TZNAME:Europe/Berlin CEST
END:DAYLIGHT
END:VTIMEZONE
BEGIN:VEVENT
UID:1768934212658-5934019@ical.marudot.com
CATEGORIES:Einsatzabteilung Oberkleen
CREATED:20260120T194302
SUMMARY:Entrauchung von Gebäuden
URL;VALUE=URI:https://feuerwehr-langgoens.de/einsatzabteilung/uebungsplaene-einsatzabteil
 ung/icalrepeat.detail/2026/05/16/2034/-/entrauchung-von-gebaeuden?tmpl=comp
 onent
DESCRIPTION:Ausbilder: Metz / Brück Dieser Event wurde importiert von: https://feuerweh
 r-langgoens.de/einsatzabteilung/uebungsplaene-einsatzabteilung/icalrepeat.d
 etail/2026/05/16/2034/-/entrauchung-von-gebaeuden?tmpl=component
X-ALT-DESC;FMTTYPE=text/html:Ausbilder: Metz / Brück <a href="https://feuerwehr-langgoens.de/einsatzabte
 ilung/uebungsplaene-einsatzabteilung/icalrepeat.detail/2026/05/16/2034/-/en
 trauchung-von-gebaeuden?tmpl=component">Dieser Event wurde importiert von: 
 https://feuerwehr-langgoens.de/einsatzabteilung/uebungsplaene-einsatzabteil
 ung/icalrepeat.detail/2026/05/16/2034/-/entrauchung-von-gebaeuden?tmpl=comp
 onent</a>DTSTAMP:20260425T115418
DTSTART;TZID=Europe/Berlin:20260516T160000
DTEND;TZID=Europe/Berlin:20260516T180000
SEQUENCE:0
TRANSP:OPAQUE
END:VEVENT
END:VCALENDAR