BEGIN:VCALENDAR
VERSION:2.0
PRODID:-//jEvents 2.0 for Joomla//EN
CALSCALE:GREGORIAN
METHOD:PUBLISH
BEGIN:VTIMEZONE
TZID:Europe/Berlin
BEGIN:STANDARD
DTSTART:20251026T020000
RDATE:20260329T030000
TZOFFSETFROM:+0200
TZOFFSETTO:+0100
TZNAME:Europe/Berlin CET
END:STANDARD
BEGIN:STANDARD
DTSTART:20261025T020000
RDATE:20270328T030000
TZOFFSETFROM:+0200
TZOFFSETTO:+0100
TZNAME:Europe/Berlin CET
END:STANDARD
BEGIN:STANDARD
DTSTART:20271031T020000
RDATE:20280326T030000
TZOFFSETFROM:+0200
TZOFFSETTO:+0100
TZNAME:Europe/Berlin CET
END:STANDARD
BEGIN:DAYLIGHT
DTSTART:20250720T190000
RDATE:20251026T020000
TZOFFSETFROM:+0100
TZOFFSETTO:+0200
TZNAME:Europe/Berlin CEST
END:DAYLIGHT
BEGIN:DAYLIGHT
DTSTART:20260329T030000
RDATE:20261025T020000
TZOFFSETFROM:+0100
TZOFFSETTO:+0200
TZNAME:Europe/Berlin CEST
END:DAYLIGHT
BEGIN:DAYLIGHT
DTSTART:20270328T030000
RDATE:20271031T020000
TZOFFSETFROM:+0100
TZOFFSETTO:+0200
TZNAME:Europe/Berlin CEST
END:DAYLIGHT
END:VTIMEZONE
BEGIN:VEVENT
UID:1768934212658-5466647@ical.marudot.com
CATEGORIES:Einsatzabteilung Oberkleen
CREATED:20260120T194303
SUMMARY:FwDV 10 Tragebare Leitern
URL;VALUE=URI:https://feuerwehr-langgoens.de/einsatzabteilung/uebungsplaene-einsatzabteil
 ung/icalrepeat.detail/2026/07/21/2038/-/fwdv-10-tragebare-leitern?tmpl=comp
 onent
DESCRIPTION:Ausbilder: Bittroff Dieser Event wurde importiert von: https://feuerwehr-la
 nggoens.de/einsatzabteilung/uebungsplaene-einsatzabteilung/icalrepeat.detai
 l/2026/07/21/2038/-/fwdv-10-tragebare-leitern?tmpl=component
X-ALT-DESC;FMTTYPE=text/html:Ausbilder: Bittroff <a href="https://feuerwehr-langgoens.de/einsatzabteilun
 g/uebungsplaene-einsatzabteilung/icalrepeat.detail/2026/07/21/2038/-/fwdv-1
 0-tragebare-leitern?tmpl=component">Dieser Event wurde importiert von: http
 s://feuerwehr-langgoens.de/einsatzabteilung/uebungsplaene-einsatzabteilung/
 icalrepeat.detail/2026/07/21/2038/-/fwdv-10-tragebare-leitern?tmpl=componen
 t</a>DTSTAMP:20260421T203254
DTSTART;TZID=Europe/Berlin:20260721T190000
DTEND;TZID=Europe/Berlin:20260721T210000
SEQUENCE:0
TRANSP:OPAQUE
END:VEVENT
END:VCALENDAR