BEGIN:VCALENDAR
VERSION:2.0
PRODID:-//jEvents 2.0 for Joomla//EN
CALSCALE:GREGORIAN
METHOD:PUBLISH
BEGIN:VTIMEZONE
TZID:Europe/Berlin
BEGIN:STANDARD
DTSTART:20251026T020000
RDATE:20260329T030000
TZOFFSETFROM:+0200
TZOFFSETTO:+0100
TZNAME:Europe/Berlin CET
END:STANDARD
BEGIN:STANDARD
DTSTART:20261025T020000
RDATE:20270328T030000
TZOFFSETFROM:+0200
TZOFFSETTO:+0100
TZNAME:Europe/Berlin CET
END:STANDARD
BEGIN:STANDARD
DTSTART:20271031T020000
RDATE:20280326T030000
TZOFFSETFROM:+0200
TZOFFSETTO:+0100
TZNAME:Europe/Berlin CET
END:STANDARD
BEGIN:DAYLIGHT
DTSTART:20250828T160000
RDATE:20251026T020000
TZOFFSETFROM:+0100
TZOFFSETTO:+0200
TZNAME:Europe/Berlin CEST
END:DAYLIGHT
BEGIN:DAYLIGHT
DTSTART:20260329T030000
RDATE:20261025T020000
TZOFFSETFROM:+0100
TZOFFSETTO:+0200
TZNAME:Europe/Berlin CEST
END:DAYLIGHT
BEGIN:DAYLIGHT
DTSTART:20270328T030000
RDATE:20271031T020000
TZOFFSETFROM:+0100
TZOFFSETTO:+0200
TZNAME:Europe/Berlin CEST
END:DAYLIGHT
END:VTIMEZONE
BEGIN:VEVENT
UID:1768934212658-2215614@ical.marudot.com
CATEGORIES:Einsatzabteilung Oberkleen
CREATED:20260120T194303
SUMMARY:FwDV 500- GAMS- Regel
URL;VALUE=URI:https://feuerwehr-langgoens.de/einsatzabteilung/uebungsplaene-einsatzabteil
 ung/icalrepeat.detail/2026/08/29/2042/-/fwdv-500-gams-regel?tmpl=component
DESCRIPTION:Ausbilder: Gillmann / Brück <a href="https://feuerwehr-langgoens.de/einsatz
 abteilung/uebungsplaene-einsatzabteilung/icalrepeat.detail/2026/08/29/2042/
 -/fwdv-500-gams-regel?tmpl=component">Dieser Event wurde importiert von: ht
 tps://feuerwehr-langgoens.de/einsatzabteilung/uebungsplaene-einsatzabteilun
 g/icalrepeat.detail/2026/08/29/2042/-/fwdv-500-gams-regel?tmpl=component</a
 >DTSTAMP:20260425T115612
DTSTART;TZID=Europe/Berlin:20260829T160000
DTEND;TZID=Europe/Berlin:20260829T180000
SEQUENCE:0
TRANSP:OPAQUE
END:VEVENT
END:VCALENDAR