BEGIN:VCALENDAR
VERSION:2.0
PRODID:-//jEvents 2.0 for Joomla//EN
CALSCALE:GREGORIAN
METHOD:PUBLISH
BEGIN:VTIMEZONE
TZID:Europe/Berlin
BEGIN:STANDARD
DTSTART:20251026T020000
RDATE:20260329T030000
TZOFFSETFROM:+0200
TZOFFSETTO:+0100
TZNAME:Europe/Berlin CET
END:STANDARD
BEGIN:STANDARD
DTSTART:20261025T020000
RDATE:20270328T030000
TZOFFSETFROM:+0200
TZOFFSETTO:+0100
TZNAME:Europe/Berlin CET
END:STANDARD
BEGIN:STANDARD
DTSTART:20271031T020000
RDATE:20280326T030000
TZOFFSETFROM:+0200
TZOFFSETTO:+0100
TZNAME:Europe/Berlin CET
END:STANDARD
BEGIN:DAYLIGHT
DTSTART:20251023T160000
RDATE:20251026T020000
TZOFFSETFROM:+0100
TZOFFSETTO:+0200
TZNAME:Europe/Berlin CEST
END:DAYLIGHT
BEGIN:DAYLIGHT
DTSTART:20260329T030000
RDATE:20261025T020000
TZOFFSETFROM:+0100
TZOFFSETTO:+0200
TZNAME:Europe/Berlin CEST
END:DAYLIGHT
BEGIN:DAYLIGHT
DTSTART:20270328T030000
RDATE:20271031T020000
TZOFFSETFROM:+0100
TZOFFSETTO:+0200
TZNAME:Europe/Berlin CEST
END:DAYLIGHT
END:VTIMEZONE
BEGIN:VEVENT
UID:1768934212658-4185578@ical.marudot.com
CATEGORIES:Einsatzabteilung Oberkleen
CREATED:20260120T194303
SUMMARY:TH-VU Übung gemeinsam mit der Jugendfeuerwehr
URL;VALUE=URI:https://feuerwehr-langgoens.de/einsatzabteilung/uebungsplaene-einsatzabteil
 ung/icalrepeat.detail/2026/10/24/2046/-/th-vu-uebung-gemeinsam-mit-der-juge
 ndfeuerwehr?tmpl=component
DESCRIPTION:Ausbilder: M. Trompetter / Röhrich / Häußler <a href="https://feuerwehr-lan
 ggoens.de/einsatzabteilung/uebungsplaene-einsatzabteilung/icalrepeat.detail
 /2026/10/24/2046/-/th-vu-uebung-gemeinsam-mit-der-jugendfeuerwehr?tmpl=comp
 onent">Dieser Event wurde importiert von: https://feuerwehr-langgoens.de/ei
 nsatzabteilung/uebungsplaene-einsatzabteilung/icalrepeat.detail/2026/10/24/
 2046/-/th-vu-uebung-gemeinsam-mit-der-jugendfeuerwehr?tmpl=component</a>DTSTAMP:20260421T220021
DTSTART;TZID=Europe/Berlin:20261024T160000
DTEND;TZID=Europe/Berlin:20261024T180000
SEQUENCE:0
TRANSP:OPAQUE
END:VEVENT
END:VCALENDAR