BEGIN:VCALENDAR
VERSION:2.0
PRODID:-//jEvents 2.0 for Joomla//EN
CALSCALE:GREGORIAN
METHOD:PUBLISH
BEGIN:VTIMEZONE
TZID:Europe/Berlin
BEGIN:STANDARD
DTSTART:20251026T020000
RDATE:20260329T030000
TZOFFSETFROM:+0200
TZOFFSETTO:+0100
TZNAME:Europe/Berlin CET
END:STANDARD
BEGIN:STANDARD
DTSTART:20261025T020000
RDATE:20270328T030000
TZOFFSETFROM:+0200
TZOFFSETTO:+0100
TZNAME:Europe/Berlin CET
END:STANDARD
BEGIN:STANDARD
DTSTART:20271031T020000
RDATE:20280326T030000
TZOFFSETFROM:+0200
TZOFFSETTO:+0100
TZNAME:Europe/Berlin CET
END:STANDARD
BEGIN:DAYLIGHT
DTSTART:20251006T190000
RDATE:20251026T020000
TZOFFSETFROM:+0100
TZOFFSETTO:+0200
TZNAME:Europe/Berlin CEST
END:DAYLIGHT
BEGIN:DAYLIGHT
DTSTART:20260329T030000
RDATE:20261025T020000
TZOFFSETFROM:+0100
TZOFFSETTO:+0200
TZNAME:Europe/Berlin CEST
END:DAYLIGHT
BEGIN:DAYLIGHT
DTSTART:20270328T030000
RDATE:20271031T020000
TZOFFSETFROM:+0100
TZOFFSETTO:+0200
TZNAME:Europe/Berlin CEST
END:DAYLIGHT
END:VTIMEZONE
BEGIN:VEVENT
UID:1768934212658-2025811@ical.marudot.com
CATEGORIES:Einsatzabteilung Oberkleen
CREATED:20260120T194303
SUMMARY:Reinigen der Fahrzeuge und der Fahrzeughalle
URL;VALUE=URI:https://feuerwehr-langgoens.de/einsatzabteilung/uebungsplaene-einsatzabteil
 ung/icalrepeat.detail/2026/10/07/2072/-/reinigen-der-fahrzeuge-und-der-fahr
 zeughalle?tmpl=component
DESCRIPTION:Verantwortlich: Alexander Metz/ Daniel Möllenbeck <a href="https://feuerweh
 r-langgoens.de/einsatzabteilung/uebungsplaene-einsatzabteilung/icalrepeat.d
 etail/2026/10/07/2072/-/reinigen-der-fahrzeuge-und-der-fahrzeughalle?tmpl=c
 omponent">Dieser Event wurde importiert von: https://feuerwehr-langgoens.de
 /einsatzabteilung/uebungsplaene-einsatzabteilung/icalrepeat.detail/2026/10/
 07/2072/-/reinigen-der-fahrzeuge-und-der-fahrzeughalle?tmpl=component</a>DTSTAMP:20260421T221903
DTSTART;TZID=Europe/Berlin:20261007T190000
DTEND;TZID=Europe/Berlin:20261007T210000
SEQUENCE:0
TRANSP:OPAQUE
END:VEVENT
END:VCALENDAR