BEGIN:VCALENDAR
VERSION:2.0
PRODID:-//jEvents 2.0 for Joomla//EN
CALSCALE:GREGORIAN
METHOD:PUBLISH
BEGIN:VTIMEZONE
TZID:Europe/Berlin
BEGIN:STANDARD
DTSTART:20251026T020000
RDATE:20260329T030000
TZOFFSETFROM:+0200
TZOFFSETTO:+0100
TZNAME:Europe/Berlin CET
END:STANDARD
BEGIN:STANDARD
DTSTART:20261025T020000
RDATE:20270328T030000
TZOFFSETFROM:+0200
TZOFFSETTO:+0100
TZNAME:Europe/Berlin CET
END:STANDARD
BEGIN:STANDARD
DTSTART:20271031T020000
RDATE:20280326T030000
TZOFFSETFROM:+0200
TZOFFSETTO:+0100
TZNAME:Europe/Berlin CET
END:STANDARD
BEGIN:DAYLIGHT
DTSTART:20251023T160000
RDATE:20251026T020000
TZOFFSETFROM:+0100
TZOFFSETTO:+0200
TZNAME:Europe/Berlin CEST
END:DAYLIGHT
BEGIN:DAYLIGHT
DTSTART:20260329T030000
RDATE:20261025T020000
TZOFFSETFROM:+0100
TZOFFSETTO:+0200
TZNAME:Europe/Berlin CEST
END:DAYLIGHT
BEGIN:DAYLIGHT
DTSTART:20270328T030000
RDATE:20271031T020000
TZOFFSETFROM:+0100
TZOFFSETTO:+0200
TZNAME:Europe/Berlin CEST
END:DAYLIGHT
END:VTIMEZONE
BEGIN:VEVENT
UID:1767279747912-1974343@ical.marudot.com
CATEGORIES:Jugendfeuerwehr Cleeberg
CREATED:20260101T162004
SUMMARY:Hydrantenschau
URL;VALUE=URI:https://feuerwehr-langgoens.de/jugend/uebungsplaene-jugendfeuerwehr/icalrep
 eat.detail/2026/10/24/1954/-/hydrantenschau?tmpl=component
DESCRIPTION: <a href="https://feuerwehr-langgoens.de/jugend/uebungsplaene-jugendfeuerwe
 hr/icalrepeat.detail/2026/10/24/1954/-/hydrantenschau?tmpl=component">Diese
 r Event wurde importiert von: https://feuerwehr-langgoens.de/jugend/uebungs
 plaene-jugendfeuerwehr/icalrepeat.detail/2026/10/24/1954/-/hydrantenschau?t
 mpl=component</a>DTSTAMP:20260423T114842
DTSTART;TZID=Europe/Berlin:20261024T160000
DTEND;TZID=Europe/Berlin:20261024T170000
SEQUENCE:0
TRANSP:OPAQUE
END:VEVENT
END:VCALENDAR