BEGIN:VCALENDAR
VERSION:2.0
PRODID:-//jEvents 2.0 for Joomla//EN
CALSCALE:GREGORIAN
METHOD:PUBLISH
BEGIN:VTIMEZONE
TZID:Europe/Berlin
BEGIN:STANDARD
DTSTART:20251120T160000
RDATE:20260329T030000
TZOFFSETFROM:+0200
TZOFFSETTO:+0100
TZNAME:Europe/Berlin CET
END:STANDARD
BEGIN:STANDARD
DTSTART:20261025T020000
RDATE:20270328T030000
TZOFFSETFROM:+0200
TZOFFSETTO:+0100
TZNAME:Europe/Berlin CET
END:STANDARD
BEGIN:STANDARD
DTSTART:20271031T020000
RDATE:20280326T030000
TZOFFSETFROM:+0200
TZOFFSETTO:+0100
TZNAME:Europe/Berlin CET
END:STANDARD
BEGIN:DAYLIGHT
DTSTART:20260329T030000
RDATE:20261025T020000
TZOFFSETFROM:+0100
TZOFFSETTO:+0200
TZNAME:Europe/Berlin CEST
END:DAYLIGHT
BEGIN:DAYLIGHT
DTSTART:20270328T030000
RDATE:20271031T020000
TZOFFSETFROM:+0100
TZOFFSETTO:+0200
TZNAME:Europe/Berlin CEST
END:DAYLIGHT
END:VTIMEZONE
BEGIN:VEVENT
UID:1767279747912-2948269@ical.marudot.com
CATEGORIES:Jugendfeuerwehr Cleeberg
CREATED:20260101T162004
SUMMARY:Basteln
URL;VALUE=URI:https://feuerwehr-langgoens.de/jugend/uebungsplaene-jugendfeuerwehr/icalrep
 eat.detail/2026/11/21/1957/-/basteln?tmpl=component
DESCRIPTION: Dieser Event wurde importiert von: https://feuerwehr-langgoens.de/jugend/u
 ebungsplaene-jugendfeuerwehr/icalrepeat.detail/2026/11/21/1957/-/basteln?tm
 pl=component
X-ALT-DESC;FMTTYPE=text/html: <a href="https://feuerwehr-langgoens.de/jugend/uebungsplaene-jugendfeuerwe
 hr/icalrepeat.detail/2026/11/21/1957/-/basteln?tmpl=component">Dieser Event
  wurde importiert von: https://feuerwehr-langgoens.de/jugend/uebungsplaene-
 jugendfeuerwehr/icalrepeat.detail/2026/11/21/1957/-/basteln?tmpl=component<
 /a>DTSTAMP:20260423T104343
DTSTART;TZID=Europe/Berlin:20261121T160000
DTEND;TZID=Europe/Berlin:20261121T173000
SEQUENCE:0
TRANSP:OPAQUE
END:VEVENT
END:VCALENDAR