BEGIN:VCALENDAR
VERSION:2.0
PRODID:-//jEvents 2.0 for Joomla//EN
CALSCALE:GREGORIAN
METHOD:PUBLISH
BEGIN:VTIMEZONE
TZID:Europe/Berlin
BEGIN:STANDARD
DTSTART:20251026T020000
RDATE:20260329T030000
TZOFFSETFROM:+0200
TZOFFSETTO:+0100
TZNAME:Europe/Berlin CET
END:STANDARD
BEGIN:STANDARD
DTSTART:20261025T020000
RDATE:20270328T030000
TZOFFSETFROM:+0200
TZOFFSETTO:+0100
TZNAME:Europe/Berlin CET
END:STANDARD
BEGIN:STANDARD
DTSTART:20271031T020000
RDATE:20280326T030000
TZOFFSETFROM:+0200
TZOFFSETTO:+0100
TZNAME:Europe/Berlin CET
END:STANDARD
BEGIN:DAYLIGHT
DTSTART:20250903T173000
RDATE:20251026T020000
TZOFFSETFROM:+0100
TZOFFSETTO:+0200
TZNAME:Europe/Berlin CEST
END:DAYLIGHT
BEGIN:DAYLIGHT
DTSTART:20260329T030000
RDATE:20261025T020000
TZOFFSETFROM:+0100
TZOFFSETTO:+0200
TZNAME:Europe/Berlin CEST
END:DAYLIGHT
BEGIN:DAYLIGHT
DTSTART:20270328T030000
RDATE:20271031T020000
TZOFFSETFROM:+0100
TZOFFSETTO:+0200
TZNAME:Europe/Berlin CEST
END:DAYLIGHT
END:VTIMEZONE
BEGIN:VEVENT
UID:1767280548488-4754869@ical.marudot.com
CATEGORIES:Jugendfeuerwehr Espa
CREATED:20260101T162015
SUMMARY:Übung
URL;VALUE=URI:https://feuerwehr-langgoens.de/jugend/uebungsplaene-jugendfeuerwehr/icalrep
 eat.detail/2026/09/04/1969/-/uebung?tmpl=component
DESCRIPTION: Dieser Event wurde importiert von: https://feuerwehr-langgoens.de/jugend/u
 ebungsplaene-jugendfeuerwehr/icalrepeat.detail/2026/09/04/1969/-/uebung?tmp
 l=component
X-ALT-DESC;FMTTYPE=text/html: <a href="https://feuerwehr-langgoens.de/jugend/uebungsplaene-jugendfeuerwe
 hr/icalrepeat.detail/2026/09/04/1969/-/uebung?tmpl=component">Dieser Event 
 wurde importiert von: https://feuerwehr-langgoens.de/jugend/uebungsplaene-j
 ugendfeuerwehr/icalrepeat.detail/2026/09/04/1969/-/uebung?tmpl=component</a
 >DTSTAMP:20260423T103635
DTSTART;TZID=Europe/Berlin:20260904T173000
DTEND;TZID=Europe/Berlin:20260904T190000
SEQUENCE:0
TRANSP:OPAQUE
END:VEVENT
END:VCALENDAR