BEGIN:VCALENDAR
VERSION:2.0
PRODID:-//jEvents 2.0 for Joomla//EN
CALSCALE:GREGORIAN
METHOD:PUBLISH
BEGIN:VTIMEZONE
TZID:Europe/Berlin
BEGIN:STANDARD
DTSTART:20251026T020000
RDATE:20260329T030000
TZOFFSETFROM:+0200
TZOFFSETTO:+0100
TZNAME:Europe/Berlin CET
END:STANDARD
BEGIN:STANDARD
DTSTART:20261025T020000
RDATE:20270328T030000
TZOFFSETFROM:+0200
TZOFFSETTO:+0100
TZNAME:Europe/Berlin CET
END:STANDARD
BEGIN:STANDARD
DTSTART:20271031T020000
RDATE:20280326T030000
TZOFFSETFROM:+0200
TZOFFSETTO:+0100
TZNAME:Europe/Berlin CET
END:STANDARD
BEGIN:DAYLIGHT
DTSTART:20250821T150000
RDATE:20251026T020000
TZOFFSETFROM:+0100
TZOFFSETTO:+0200
TZNAME:Europe/Berlin CEST
END:DAYLIGHT
BEGIN:DAYLIGHT
DTSTART:20260329T030000
RDATE:20261025T020000
TZOFFSETFROM:+0100
TZOFFSETTO:+0200
TZNAME:Europe/Berlin CEST
END:DAYLIGHT
BEGIN:DAYLIGHT
DTSTART:20270328T030000
RDATE:20271031T020000
TZOFFSETFROM:+0100
TZOFFSETTO:+0200
TZNAME:Europe/Berlin CEST
END:DAYLIGHT
END:VTIMEZONE
BEGIN:VEVENT
UID:1768935141070-2022476@ical.marudot.com
CATEGORIES:Jugendfeuerwehr Lang-Göns
CREATED:20260120T195328
SUMMARY:Gemeinschaftsübung aller Generationen
URL;VALUE=URI:https://feuerwehr-langgoens.de/jugend/uebungsplaene-jugendfeuerwehr/icalrep
 eat.detail/2026/08/22/2086/-/gemeinschaftsuebung-aller-generationen?tmpl=co
 mponent
DESCRIPTION:Ausbilder: Jugendwarte <a href="https://feuerwehr-langgoens.de/jugend/uebun
 gsplaene-jugendfeuerwehr/icalrepeat.detail/2026/08/22/2086/-/gemeinschaftsu
 ebung-aller-generationen?tmpl=component">Dieser Event wurde importiert von:
  https://feuerwehr-langgoens.de/jugend/uebungsplaene-jugendfeuerwehr/icalre
 peat.detail/2026/08/22/2086/-/gemeinschaftsuebung-aller-generationen?tmpl=c
 omponent</a>DTSTAMP:20260423T105724
DTSTART;TZID=Europe/Berlin:20260822T150000
DTEND;TZID=Europe/Berlin:20260822T180000
SEQUENCE:0
TRANSP:OPAQUE
END:VEVENT
END:VCALENDAR