BEGIN:VCALENDAR
VERSION:2.0
PRODID:-//jEvents 2.0 for Joomla//EN
CALSCALE:GREGORIAN
METHOD:PUBLISH
BEGIN:VTIMEZONE
TZID:Europe/Berlin
BEGIN:STANDARD
DTSTART:20251105T180000
RDATE:20260329T030000
TZOFFSETFROM:+0200
TZOFFSETTO:+0100
TZNAME:Europe/Berlin CET
END:STANDARD
BEGIN:STANDARD
DTSTART:20261025T020000
RDATE:20270328T030000
TZOFFSETFROM:+0200
TZOFFSETTO:+0100
TZNAME:Europe/Berlin CET
END:STANDARD
BEGIN:STANDARD
DTSTART:20271031T020000
RDATE:20280326T030000
TZOFFSETFROM:+0200
TZOFFSETTO:+0100
TZNAME:Europe/Berlin CET
END:STANDARD
BEGIN:DAYLIGHT
DTSTART:20260329T030000
RDATE:20261025T020000
TZOFFSETFROM:+0100
TZOFFSETTO:+0200
TZNAME:Europe/Berlin CEST
END:DAYLIGHT
BEGIN:DAYLIGHT
DTSTART:20270328T030000
RDATE:20271031T020000
TZOFFSETFROM:+0100
TZOFFSETTO:+0200
TZNAME:Europe/Berlin CEST
END:DAYLIGHT
END:VTIMEZONE
BEGIN:VEVENT
UID:1768935141070-1564383@ical.marudot.com
CATEGORIES:Jugendfeuerwehr Lang-Göns
CREATED:20260120T195328
SUMMARY:Bau einer Spritzwand
URL;VALUE=URI:https://feuerwehr-langgoens.de/jugend/uebungsplaene-jugendfeuerwehr/icalrep
 eat.detail/2026/11/06/2092/-/bau-einer-spritzwand?tmpl=component
DESCRIPTION:Ausbilder: Betreuer Dieser Event wurde importiert von: https://feuerwehr-la
 nggoens.de/jugend/uebungsplaene-jugendfeuerwehr/icalrepeat.detail/2026/11/0
 6/2092/-/bau-einer-spritzwand?tmpl=component
X-ALT-DESC;FMTTYPE=text/html:Ausbilder: Betreuer <a href="https://feuerwehr-langgoens.de/jugend/uebungsp
 laene-jugendfeuerwehr/icalrepeat.detail/2026/11/06/2092/-/bau-einer-spritzw
 and?tmpl=component">Dieser Event wurde importiert von: https://feuerwehr-la
 nggoens.de/jugend/uebungsplaene-jugendfeuerwehr/icalrepeat.detail/2026/11/0
 6/2092/-/bau-einer-spritzwand?tmpl=component</a>DTSTAMP:20260423T114714
DTSTART;TZID=Europe/Berlin:20261106T180000
DTEND;TZID=Europe/Berlin:20261106T200000
SEQUENCE:0
TRANSP:OPAQUE
END:VEVENT
END:VCALENDAR