BEGIN:VCALENDAR
VERSION:2.0
PRODID:-//jEvents 2.0 for Joomla//EN
CALSCALE:GREGORIAN
METHOD:PUBLISH
BEGIN:VTIMEZONE
TZID:Europe/Berlin
BEGIN:STANDARD
DTSTART:20251026T020000
RDATE:20260329T030000
TZOFFSETFROM:+0200
TZOFFSETTO:+0100
TZNAME:Europe/Berlin CET
END:STANDARD
BEGIN:STANDARD
DTSTART:20261025T020000
RDATE:20270328T030000
TZOFFSETFROM:+0200
TZOFFSETTO:+0100
TZNAME:Europe/Berlin CET
END:STANDARD
BEGIN:STANDARD
DTSTART:20271031T020000
RDATE:20280326T030000
TZOFFSETFROM:+0200
TZOFFSETTO:+0100
TZNAME:Europe/Berlin CET
END:STANDARD
BEGIN:DAYLIGHT
DTSTART:20250611T160000
RDATE:20251026T020000
TZOFFSETFROM:+0100
TZOFFSETTO:+0200
TZNAME:Europe/Berlin CEST
END:DAYLIGHT
BEGIN:DAYLIGHT
DTSTART:20260329T030000
RDATE:20261025T020000
TZOFFSETFROM:+0100
TZOFFSETTO:+0200
TZNAME:Europe/Berlin CEST
END:DAYLIGHT
BEGIN:DAYLIGHT
DTSTART:20270328T030000
RDATE:20271031T020000
TZOFFSETFROM:+0100
TZOFFSETTO:+0200
TZNAME:Europe/Berlin CEST
END:DAYLIGHT
END:VTIMEZONE
BEGIN:VEVENT
UID:1767280627739-6186655@ical.marudot.com
CATEGORIES:Minifeuerwehr Espa
CREATED:20260101T162032
SUMMARY:Abschluss vor den Ferien
URL;VALUE=URI:https://feuerwehr-langgoens.de/minis/uebungsplaene-minifeuerwehr/icalrepeat
 .detail/2026/06/12/1981/-/abschluss-vor-den-ferien?tmpl=component
DESCRIPTION: <a href="https://feuerwehr-langgoens.de/minis/uebungsplaene-minifeuerwehr/
 icalrepeat.detail/2026/06/12/1981/-/abschluss-vor-den-ferien?tmpl=component
 ">Dieser Event wurde importiert von: https://feuerwehr-langgoens.de/minis/u
 ebungsplaene-minifeuerwehr/icalrepeat.detail/2026/06/12/1981/-/abschluss-vo
 r-den-ferien?tmpl=component</a>DTSTAMP:20260423T120450
DTSTART;TZID=Europe/Berlin:20260612T160000
DTEND;TZID=Europe/Berlin:20260612T173000
SEQUENCE:0
TRANSP:OPAQUE
END:VEVENT
END:VCALENDAR