BEGIN:VCALENDAR
VERSION:2.0
PRODID:-//jEvents 2.0 for Joomla//EN
CALSCALE:GREGORIAN
METHOD:PUBLISH
BEGIN:VTIMEZONE
TZID:Europe/Berlin
BEGIN:STANDARD
DTSTART:20251026T020000
RDATE:20260329T030000
TZOFFSETFROM:+0200
TZOFFSETTO:+0100
TZNAME:Europe/Berlin CET
END:STANDARD
BEGIN:STANDARD
DTSTART:20261025T020000
RDATE:20270328T030000
TZOFFSETFROM:+0200
TZOFFSETTO:+0100
TZNAME:Europe/Berlin CET
END:STANDARD
BEGIN:STANDARD
DTSTART:20271031T020000
RDATE:20280326T030000
TZOFFSETFROM:+0200
TZOFFSETTO:+0100
TZNAME:Europe/Berlin CET
END:STANDARD
BEGIN:DAYLIGHT
DTSTART:20250914T183000
RDATE:20251026T020000
TZOFFSETFROM:+0100
TZOFFSETTO:+0200
TZNAME:Europe/Berlin CEST
END:DAYLIGHT
BEGIN:DAYLIGHT
DTSTART:20260329T030000
RDATE:20261025T020000
TZOFFSETFROM:+0100
TZOFFSETTO:+0200
TZNAME:Europe/Berlin CEST
END:DAYLIGHT
BEGIN:DAYLIGHT
DTSTART:20270328T030000
RDATE:20271031T020000
TZOFFSETFROM:+0100
TZOFFSETTO:+0200
TZNAME:Europe/Berlin CEST
END:DAYLIGHT
END:VTIMEZONE
BEGIN:VEVENT
UID:1768932622539-7976517@ical.marudot.com
CATEGORIES:Einsatzabteilung Cleeberg
CREATED:20260120T191312
SUMMARY:Fortbildung Atemschutz in Lang-Göns
URL;VALUE=URI:https://feuerwehr-langgoens.de/uebungsplan-einsatzabteilung-cleeberg/icalre
 peat.detail/2026/09/15/2009/-/fortbildung-atemschutz-in-lang-goens?tmpl=com
 ponent
DESCRIPTION: Dieser Event wurde importiert von: https://feuerwehr-langgoens.de/uebungsp
 lan-einsatzabteilung-cleeberg/icalrepeat.detail/2026/09/15/2009/-/fortbildu
 ng-atemschutz-in-lang-goens?tmpl=component
X-ALT-DESC;FMTTYPE=text/html: <a href="https://feuerwehr-langgoens.de/uebungsplan-einsatzabteilung-cleeb
 erg/icalrepeat.detail/2026/09/15/2009/-/fortbildung-atemschutz-in-lang-goen
 s?tmpl=component">Dieser Event wurde importiert von: https://feuerwehr-lang
 goens.de/uebungsplan-einsatzabteilung-cleeberg/icalrepeat.detail/2026/09/15
 /2009/-/fortbildung-atemschutz-in-lang-goens?tmpl=component</a>DTSTAMP:20260423T094214
DTSTART;TZID=Europe/Berlin:20260915T183000
DTEND;TZID=Europe/Berlin:20260915T203000
SEQUENCE:0
TRANSP:OPAQUE
END:VEVENT
END:VCALENDAR