BEGIN:VCALENDAR
VERSION:2.0
PRODID:-//jEvents 2.0 for Joomla//EN
CALSCALE:GREGORIAN
METHOD:PUBLISH
BEGIN:VTIMEZONE
TZID:Europe/Berlin
BEGIN:STANDARD
DTSTART:20251026T020000
RDATE:20260329T030000
TZOFFSETFROM:+0200
TZOFFSETTO:+0100
TZNAME:Europe/Berlin CET
END:STANDARD
BEGIN:STANDARD
DTSTART:20261025T020000
RDATE:20270328T030000
TZOFFSETFROM:+0200
TZOFFSETTO:+0100
TZNAME:Europe/Berlin CET
END:STANDARD
BEGIN:STANDARD
DTSTART:20271031T020000
RDATE:20280326T030000
TZOFFSETFROM:+0200
TZOFFSETTO:+0100
TZNAME:Europe/Berlin CET
END:STANDARD
BEGIN:DAYLIGHT
DTSTART:20250514T190000
RDATE:20251026T020000
TZOFFSETFROM:+0100
TZOFFSETTO:+0200
TZNAME:Europe/Berlin CEST
END:DAYLIGHT
BEGIN:DAYLIGHT
DTSTART:20260329T030000
RDATE:20261025T020000
TZOFFSETFROM:+0100
TZOFFSETTO:+0200
TZNAME:Europe/Berlin CEST
END:DAYLIGHT
BEGIN:DAYLIGHT
DTSTART:20270328T030000
RDATE:20271031T020000
TZOFFSETFROM:+0100
TZOFFSETTO:+0200
TZNAME:Europe/Berlin CEST
END:DAYLIGHT
END:VTIMEZONE
BEGIN:VEVENT
UID:1767280060297-9365281@ical.marudot.com
CATEGORIES:Einsatzabteilung Lang-Göns
CREATED:20260101T161940
SUMMARY:Überraschungsübung der Mannschaft
URL;VALUE=URI:https://feuerwehr-langgoens.de/uebungsplan-einsatzabteilung-lang-goens/ical
 repeat.detail/2026/05/15/1893/-/ueberraschungsuebung-der-mannschaft?tmpl=co
 mponent
DESCRIPTION: Dieser Event wurde importiert von: https://feuerwehr-langgoens.de/uebungsp
 lan-einsatzabteilung-lang-goens/icalrepeat.detail/2026/05/15/1893/-/ueberra
 schungsuebung-der-mannschaft?tmpl=component
X-ALT-DESC;FMTTYPE=text/html: <a href="https://feuerwehr-langgoens.de/uebungsplan-einsatzabteilung-lang-
 goens/icalrepeat.detail/2026/05/15/1893/-/ueberraschungsuebung-der-mannscha
 ft?tmpl=component">Dieser Event wurde importiert von: https://feuerwehr-lan
 ggoens.de/uebungsplan-einsatzabteilung-lang-goens/icalrepeat.detail/2026/05
 /15/1893/-/ueberraschungsuebung-der-mannschaft?tmpl=component</a>DTSTAMP:20260421T160007
DTSTART;TZID=Europe/Berlin:20260515T190000
DTEND;TZID=Europe/Berlin:20260515T210000
SEQUENCE:0
TRANSP:OPAQUE
END:VEVENT
END:VCALENDAR