BEGIN:VCALENDAR
VERSION:2.0
PRODID:-//jEvents 2.0 for Joomla//EN
CALSCALE:GREGORIAN
METHOD:PUBLISH
BEGIN:VTIMEZONE
TZID:Europe/Berlin
BEGIN:STANDARD
DTSTART:20251026T020000
RDATE:20260329T030000
TZOFFSETFROM:+0200
TZOFFSETTO:+0100
TZNAME:Europe/Berlin CET
END:STANDARD
BEGIN:STANDARD
DTSTART:20261025T020000
RDATE:20270328T030000
TZOFFSETFROM:+0200
TZOFFSETTO:+0100
TZNAME:Europe/Berlin CET
END:STANDARD
BEGIN:STANDARD
DTSTART:20271031T020000
RDATE:20280326T030000
TZOFFSETFROM:+0200
TZOFFSETTO:+0100
TZNAME:Europe/Berlin CET
END:STANDARD
BEGIN:DAYLIGHT
DTSTART:20250625T190000
RDATE:20251026T020000
TZOFFSETFROM:+0100
TZOFFSETTO:+0200
TZNAME:Europe/Berlin CEST
END:DAYLIGHT
BEGIN:DAYLIGHT
DTSTART:20260329T030000
RDATE:20261025T020000
TZOFFSETFROM:+0100
TZOFFSETTO:+0200
TZNAME:Europe/Berlin CEST
END:DAYLIGHT
BEGIN:DAYLIGHT
DTSTART:20270328T030000
RDATE:20271031T020000
TZOFFSETFROM:+0100
TZOFFSETTO:+0200
TZNAME:Europe/Berlin CEST
END:DAYLIGHT
END:VTIMEZONE
BEGIN:VEVENT
UID:1767280060297-8130147@ical.marudot.com
CATEGORIES:Einsatzabteilung Lang-Göns
CREATED:20260101T161940
SUMMARY:Zugübung unteres Kleebachtal
URL;VALUE=URI:https://feuerwehr-langgoens.de/uebungsplan-einsatzabteilung-lang-goens/ical
 repeat.detail/2026/06/26/1896/-/zuguebung-unteres-kleebachtal?tmpl=componen
 t
DESCRIPTION:Ausbilder: Fuchs, S. Dieser Event wurde importiert von: https://feuerwehr-l
 anggoens.de/uebungsplan-einsatzabteilung-lang-goens/icalrepeat.detail/2026/
 06/26/1896/-/zuguebung-unteres-kleebachtal?tmpl=component
X-ALT-DESC;FMTTYPE=text/html:Ausbilder: Fuchs, S. <a href="https://feuerwehr-langgoens.de/uebungsplan-ei
 nsatzabteilung-lang-goens/icalrepeat.detail/2026/06/26/1896/-/zuguebung-unt
 eres-kleebachtal?tmpl=component">Dieser Event wurde importiert von: https:/
 /feuerwehr-langgoens.de/uebungsplan-einsatzabteilung-lang-goens/icalrepeat.
 detail/2026/06/26/1896/-/zuguebung-unteres-kleebachtal?tmpl=component</a>DTSTAMP:20260423T105127
DTSTART;TZID=Europe/Berlin:20260626T190000
DTEND;TZID=Europe/Berlin:20260626T210000
SEQUENCE:1
TRANSP:OPAQUE
END:VEVENT
END:VCALENDAR