BEGIN:VCALENDAR
VERSION:2.0
PRODID:-//jEvents 2.0 for Joomla//EN
CALSCALE:GREGORIAN
METHOD:PUBLISH
BEGIN:VTIMEZONE
TZID:Europe/Berlin
BEGIN:STANDARD
DTSTART:20251026T020000
RDATE:20260329T030000
TZOFFSETFROM:+0200
TZOFFSETTO:+0100
TZNAME:Europe/Berlin CET
END:STANDARD
BEGIN:STANDARD
DTSTART:20261025T020000
RDATE:20270328T030000
TZOFFSETFROM:+0200
TZOFFSETTO:+0100
TZNAME:Europe/Berlin CET
END:STANDARD
BEGIN:STANDARD
DTSTART:20271031T020000
RDATE:20280326T030000
TZOFFSETFROM:+0200
TZOFFSETTO:+0100
TZNAME:Europe/Berlin CET
END:STANDARD
BEGIN:DAYLIGHT
DTSTART:20250806T190000
RDATE:20251026T020000
TZOFFSETFROM:+0100
TZOFFSETTO:+0200
TZNAME:Europe/Berlin CEST
END:DAYLIGHT
BEGIN:DAYLIGHT
DTSTART:20260329T030000
RDATE:20261025T020000
TZOFFSETFROM:+0100
TZOFFSETTO:+0200
TZNAME:Europe/Berlin CEST
END:DAYLIGHT
BEGIN:DAYLIGHT
DTSTART:20270328T030000
RDATE:20271031T020000
TZOFFSETFROM:+0100
TZOFFSETTO:+0200
TZNAME:Europe/Berlin CEST
END:DAYLIGHT
END:VTIMEZONE
BEGIN:VEVENT
UID:1767280060297-7911724@ical.marudot.com
CATEGORIES:Einsatzabteilung Lang-Göns
CREATED:20260101T161940
SUMMARY:Wasserförderung Lange Wege Strecke
URL;VALUE=URI:https://feuerwehr-langgoens.de/uebungsplan-einsatzabteilung-lang-goens/ical
 repeat.detail/2026/08/07/1899/-/wasserfoerderung-lange-wege-strecke?tmpl=co
 mponent
DESCRIPTION:Ausbilder: Bensel, B., Herget, D. Dieser Event wurde importiert von: https:
 //feuerwehr-langgoens.de/uebungsplan-einsatzabteilung-lang-goens/icalrepeat
 .detail/2026/08/07/1899/-/wasserfoerderung-lange-wege-strecke?tmpl=componen
 t
X-ALT-DESC;FMTTYPE=text/html:Ausbilder: Bensel, B., Herget, D. <a href="https://feuerwehr-langgoens.de/u
 ebungsplan-einsatzabteilung-lang-goens/icalrepeat.detail/2026/08/07/1899/-/
 wasserfoerderung-lange-wege-strecke?tmpl=component">Dieser Event wurde impo
 rtiert von: https://feuerwehr-langgoens.de/uebungsplan-einsatzabteilung-lan
 g-goens/icalrepeat.detail/2026/08/07/1899/-/wasserfoerderung-lange-wege-str
 ecke?tmpl=component</a>DTSTAMP:20260421T175230
DTSTART;TZID=Europe/Berlin:20260807T190000
DTEND;TZID=Europe/Berlin:20260807T210000
SEQUENCE:0
TRANSP:OPAQUE
END:VEVENT
END:VCALENDAR