BEGIN:VCALENDAR
VERSION:2.0
PRODID:-//jEvents 2.0 for Joomla//EN
CALSCALE:GREGORIAN
METHOD:PUBLISH
BEGIN:VTIMEZONE
TZID:Europe/Berlin
BEGIN:STANDARD
DTSTART:20251026T020000
RDATE:20260329T030000
TZOFFSETFROM:+0200
TZOFFSETTO:+0100
TZNAME:Europe/Berlin CET
END:STANDARD
BEGIN:STANDARD
DTSTART:20261025T020000
RDATE:20270328T030000
TZOFFSETFROM:+0200
TZOFFSETTO:+0100
TZNAME:Europe/Berlin CET
END:STANDARD
BEGIN:STANDARD
DTSTART:20271031T020000
RDATE:20280326T030000
TZOFFSETFROM:+0200
TZOFFSETTO:+0100
TZNAME:Europe/Berlin CET
END:STANDARD
BEGIN:DAYLIGHT
DTSTART:20250903T190000
RDATE:20251026T020000
TZOFFSETFROM:+0100
TZOFFSETTO:+0200
TZNAME:Europe/Berlin CEST
END:DAYLIGHT
BEGIN:DAYLIGHT
DTSTART:20260329T030000
RDATE:20261025T020000
TZOFFSETFROM:+0100
TZOFFSETTO:+0200
TZNAME:Europe/Berlin CEST
END:DAYLIGHT
BEGIN:DAYLIGHT
DTSTART:20270328T030000
RDATE:20271031T020000
TZOFFSETFROM:+0100
TZOFFSETTO:+0200
TZNAME:Europe/Berlin CEST
END:DAYLIGHT
END:VTIMEZONE
BEGIN:VEVENT
UID:1767280060297-6147923@ical.marudot.com
CATEGORIES:Einsatzabteilung Lang-Göns
CREATED:20260101T161940
SUMMARY:Aufzugsöffnung, Rettung, Türöffnung, Fensteröffnung, BMA
URL;VALUE=URI:https://feuerwehr-langgoens.de/uebungsplan-einsatzabteilung-lang-goens/ical
 repeat.detail/2026/09/04/1902/-/aufzugsoeffnung-rettung-tueroeffnung-fenste
 roeffnung-bma?tmpl=component
DESCRIPTION:Ausbilder: Faber, M. Dieser Event wurde importiert von: https://feuerwehr-l
 anggoens.de/uebungsplan-einsatzabteilung-lang-goens/icalrepeat.detail/2026/
 09/04/1902/-/aufzugsoeffnung-rettung-tueroeffnung-fensteroeffnung-bma?tmpl=
 component
X-ALT-DESC;FMTTYPE=text/html:Ausbilder: Faber, M. <a href="https://feuerwehr-langgoens.de/uebungsplan-ei
 nsatzabteilung-lang-goens/icalrepeat.detail/2026/09/04/1902/-/aufzugsoeffnu
 ng-rettung-tueroeffnung-fensteroeffnung-bma?tmpl=component">Dieser Event wu
 rde importiert von: https://feuerwehr-langgoens.de/uebungsplan-einsatzabtei
 lung-lang-goens/icalrepeat.detail/2026/09/04/1902/-/aufzugsoeffnung-rettung
 -tueroeffnung-fensteroeffnung-bma?tmpl=component</a>DTSTAMP:20260421T155814
DTSTART;TZID=Europe/Berlin:20260904T190000
DTEND;TZID=Europe/Berlin:20260904T210000
SEQUENCE:0
TRANSP:OPAQUE
END:VEVENT
END:VCALENDAR