BEGIN:VCALENDAR
VERSION:2.0
PRODID:-//jEvents 2.0 for Joomla//EN
CALSCALE:GREGORIAN
METHOD:PUBLISH
BEGIN:VTIMEZONE
TZID:Europe/Berlin
BEGIN:STANDARD
DTSTART:20251026T020000
RDATE:20260329T030000
TZOFFSETFROM:+0200
TZOFFSETTO:+0100
TZNAME:Europe/Berlin CET
END:STANDARD
BEGIN:STANDARD
DTSTART:20261025T020000
RDATE:20270328T030000
TZOFFSETFROM:+0200
TZOFFSETTO:+0100
TZNAME:Europe/Berlin CET
END:STANDARD
BEGIN:STANDARD
DTSTART:20271031T020000
RDATE:20280326T030000
TZOFFSETFROM:+0200
TZOFFSETTO:+0100
TZNAME:Europe/Berlin CET
END:STANDARD
BEGIN:DAYLIGHT
DTSTART:20250921T180000
RDATE:20251026T020000
TZOFFSETFROM:+0100
TZOFFSETTO:+0200
TZNAME:Europe/Berlin CEST
END:DAYLIGHT
BEGIN:DAYLIGHT
DTSTART:20260329T030000
RDATE:20261025T020000
TZOFFSETFROM:+0100
TZOFFSETTO:+0200
TZNAME:Europe/Berlin CEST
END:DAYLIGHT
BEGIN:DAYLIGHT
DTSTART:20270328T030000
RDATE:20271031T020000
TZOFFSETFROM:+0100
TZOFFSETTO:+0200
TZNAME:Europe/Berlin CEST
END:DAYLIGHT
END:VTIMEZONE
BEGIN:VEVENT
UID:a023580a-72e4-47e7-a7cb-d439c51db376
CATEGORIES:Einsatzabteilung Lang-Göns
CREATED:20260120T194246
SUMMARY:Atemschutznotfalltraining
URL;VALUE=URI:https://feuerwehr-langgoens.de/uebungsplan-einsatzabteilung-lang-goens/ical
 repeat.detail/2026/09/22/2022/-/atemschutznotfalltraining?tmpl=component
DESCRIPTION: Dieser Event wurde importiert von: https://feuerwehr-langgoens.de/uebungsp
 lan-einsatzabteilung-lang-goens/icalrepeat.detail/2026/09/22/2022/-/atemsch
 utznotfalltraining?tmpl=component (https://feuerwehr-langgoens.de/uebungspl
 an-einsatzabteilung-lang-goens/icalrepeat.detail/2026/09/22/2022/-/atemschu
 tznotfalltraining?tmpl=component)
X-ALT-DESC;FMTTYPE=text/html: <a href="https://feuerwehr-langgoens.de/uebungsplan-einsatzabteilung-lang-
 goens/icalrepeat.detail/2026/09/22/2022/-/atemschutznotfalltraining?tmpl=co
 mponent">Dieser Event wurde importiert von: https://feuerwehr-langgoens.de/
 uebungsplan-einsatzabteilung-lang-goens/icalrepeat.detail/2026/09/22/2022/-
 /atemschutznotfalltraining?tmpl=component</a>DTSTAMP:20260421T155918
DTSTART;TZID=Europe/Berlin:20260922T180000
DTEND;TZID=Europe/Berlin:20260922T200000
SEQUENCE:2
TRANSP:OPAQUE
END:VEVENT
END:VCALENDAR