BEGIN:VCALENDAR
VERSION:2.0
PRODID:-//jEvents 2.0 for Joomla//EN
CALSCALE:GREGORIAN
METHOD:PUBLISH
BEGIN:VTIMEZONE
TZID:Europe/Berlin
BEGIN:STANDARD
DTSTART:20251026T020000
RDATE:20260329T030000
TZOFFSETFROM:+0200
TZOFFSETTO:+0100
TZNAME:Europe/Berlin CET
END:STANDARD
BEGIN:STANDARD
DTSTART:20261025T020000
RDATE:20270328T030000
TZOFFSETFROM:+0200
TZOFFSETTO:+0100
TZNAME:Europe/Berlin CET
END:STANDARD
BEGIN:STANDARD
DTSTART:20271031T020000
RDATE:20280326T030000
TZOFFSETFROM:+0200
TZOFFSETTO:+0100
TZNAME:Europe/Berlin CET
END:STANDARD
BEGIN:DAYLIGHT
DTSTART:20250507T180000
RDATE:20251026T020000
TZOFFSETFROM:+0100
TZOFFSETTO:+0200
TZNAME:Europe/Berlin CEST
END:DAYLIGHT
BEGIN:DAYLIGHT
DTSTART:20260329T030000
RDATE:20261025T020000
TZOFFSETFROM:+0100
TZOFFSETTO:+0200
TZNAME:Europe/Berlin CEST
END:DAYLIGHT
BEGIN:DAYLIGHT
DTSTART:20270328T030000
RDATE:20271031T020000
TZOFFSETFROM:+0100
TZOFFSETTO:+0200
TZNAME:Europe/Berlin CEST
END:DAYLIGHT
END:VTIMEZONE
BEGIN:VEVENT
UID:1768935141070-1091923@ical.marudot.com
CATEGORIES:Jugendfeuerwehr Lang-Göns
CREATED:20260120T195328
SUMMARY:FwDV 3
URL;VALUE=URI:https://feuerwehr-langgoens.de/uebungsplan-jugendfeuerwehr-lang-goens/icalr
 epeat.detail/2026/05/08/2082/-/fwdv-3?tmpl=component
DESCRIPTION:Ausbilder: J. Faber Dieser Event wurde importiert von: https://feuerwehr-la
 nggoens.de/uebungsplan-jugendfeuerwehr-lang-goens/icalrepeat.detail/2026/05
 /08/2082/-/fwdv-3?tmpl=component (https://feuerwehr-langgoens.de/uebungspla
 n-jugendfeuerwehr-lang-goens/icalrepeat.detail/2026/05/08/2082/-/fwdv-3?tmp
 l=component)
X-ALT-DESC;FMTTYPE=text/html:Ausbilder: J. Faber <a href="https://feuerwehr-langgoens.de/uebungsplan-jug
 endfeuerwehr-lang-goens/icalrepeat.detail/2026/05/08/2082/-/fwdv-3?tmpl=com
 ponent">Dieser Event wurde importiert von: https://feuerwehr-langgoens.de/u
 ebungsplan-jugendfeuerwehr-lang-goens/icalrepeat.detail/2026/05/08/2082/-/f
 wdv-3?tmpl=component</a>DTSTAMP:20260423T131537
DTSTART;TZID=Europe/Berlin:20260508T180000
DTEND;TZID=Europe/Berlin:20260508T200000
SEQUENCE:0
TRANSP:OPAQUE
END:VEVENT
END:VCALENDAR