BEGIN:VCALENDAR
VERSION:2.0
PRODID:-//jEvents 2.0 for Joomla//EN
CALSCALE:GREGORIAN
METHOD:PUBLISH
BEGIN:VTIMEZONE
TZID:Europe/Berlin
BEGIN:STANDARD
DTSTART:20251026T020000
RDATE:20260329T030000
TZOFFSETFROM:+0200
TZOFFSETTO:+0100
TZNAME:Europe/Berlin CET
END:STANDARD
BEGIN:STANDARD
DTSTART:20261025T020000
RDATE:20270328T030000
TZOFFSETFROM:+0200
TZOFFSETTO:+0100
TZNAME:Europe/Berlin CET
END:STANDARD
BEGIN:STANDARD
DTSTART:20271031T020000
RDATE:20280326T030000
TZOFFSETFROM:+0200
TZOFFSETTO:+0100
TZNAME:Europe/Berlin CET
END:STANDARD
BEGIN:DAYLIGHT
DTSTART:20250813T180000
RDATE:20251026T020000
TZOFFSETFROM:+0100
TZOFFSETTO:+0200
TZNAME:Europe/Berlin CEST
END:DAYLIGHT
BEGIN:DAYLIGHT
DTSTART:20260329T030000
RDATE:20261025T020000
TZOFFSETFROM:+0100
TZOFFSETTO:+0200
TZNAME:Europe/Berlin CEST
END:DAYLIGHT
BEGIN:DAYLIGHT
DTSTART:20270328T030000
RDATE:20271031T020000
TZOFFSETFROM:+0100
TZOFFSETTO:+0200
TZNAME:Europe/Berlin CEST
END:DAYLIGHT
END:VTIMEZONE
BEGIN:VEVENT
UID:1768935141070-3897270@ical.marudot.com
CATEGORIES:Jugendfeuerwehr Lang-Göns
CREATED:20260120T195328
SUMMARY:FwDV 3 u. 10
URL;VALUE=URI:https://feuerwehr-langgoens.de/uebungsplan-jugendfeuerwehr-lang-goens/icalr
 epeat.detail/2026/08/14/2085/-/fwdv-3-u-10?tmpl=component
DESCRIPTION:Ausbilder: S. Faber / B. Klinge Dieser Event wurde importiert von: https://
 feuerwehr-langgoens.de/uebungsplan-jugendfeuerwehr-lang-goens/icalrepeat.de
 tail/2026/08/14/2085/-/fwdv-3-u-10?tmpl=component
X-ALT-DESC;FMTTYPE=text/html:Ausbilder: S. Faber / B. Klinge <a href="https://feuerwehr-langgoens.de/ueb
 ungsplan-jugendfeuerwehr-lang-goens/icalrepeat.detail/2026/08/14/2085/-/fwd
 v-3-u-10?tmpl=component">Dieser Event wurde importiert von: https://feuerwe
 hr-langgoens.de/uebungsplan-jugendfeuerwehr-lang-goens/icalrepeat.detail/20
 26/08/14/2085/-/fwdv-3-u-10?tmpl=component</a>DTSTAMP:20260423T131425
DTSTART;TZID=Europe/Berlin:20260814T180000
DTEND;TZID=Europe/Berlin:20260814T200000
SEQUENCE:0
TRANSP:OPAQUE
END:VEVENT
END:VCALENDAR