BEGIN:VCALENDAR
VERSION:2.0
PRODID:-//jEvents 2.0 for Joomla//EN
CALSCALE:GREGORIAN
METHOD:PUBLISH
BEGIN:VTIMEZONE
TZID:Europe/Berlin
BEGIN:STANDARD
DTSTART:20251203T180000
RDATE:20260329T030000
TZOFFSETFROM:+0200
TZOFFSETTO:+0100
TZNAME:Europe/Berlin CET
END:STANDARD
BEGIN:STANDARD
DTSTART:20261025T020000
RDATE:20270328T030000
TZOFFSETFROM:+0200
TZOFFSETTO:+0100
TZNAME:Europe/Berlin CET
END:STANDARD
BEGIN:STANDARD
DTSTART:20271031T020000
RDATE:20280326T030000
TZOFFSETFROM:+0200
TZOFFSETTO:+0100
TZNAME:Europe/Berlin CET
END:STANDARD
BEGIN:DAYLIGHT
DTSTART:20260329T030000
RDATE:20261025T020000
TZOFFSETFROM:+0100
TZOFFSETTO:+0200
TZNAME:Europe/Berlin CEST
END:DAYLIGHT
BEGIN:DAYLIGHT
DTSTART:20270328T030000
RDATE:20271031T020000
TZOFFSETFROM:+0100
TZOFFSETTO:+0200
TZNAME:Europe/Berlin CEST
END:DAYLIGHT
END:VTIMEZONE
BEGIN:VEVENT
UID:1768935141070-1658285@ical.marudot.com
CATEGORIES:Jugendfeuerwehr Lang-Göns
CREATED:20260120T195328
SUMMARY:Jahresabschluss / Weihnachtsfeier
URL;VALUE=URI:https://feuerwehr-langgoens.de/uebungsplan-jugendfeuerwehr-lang-goens/icalr
 epeat.detail/2026/12/04/2095/-/jahresabschluss-weihnachtsfeier?tmpl=compone
 nt
DESCRIPTION:Ausbilder: Jugendwarte Dieser Event wurde importiert von: https://feuerwehr
 -langgoens.de/uebungsplan-jugendfeuerwehr-lang-goens/icalrepeat.detail/2026
 /12/04/2095/-/jahresabschluss-weihnachtsfeier?tmpl=component
X-ALT-DESC;FMTTYPE=text/html:Ausbilder: Jugendwarte <a href="https://feuerwehr-langgoens.de/uebungsplan-
 jugendfeuerwehr-lang-goens/icalrepeat.detail/2026/12/04/2095/-/jahresabschl
 uss-weihnachtsfeier?tmpl=component">Dieser Event wurde importiert von: http
 s://feuerwehr-langgoens.de/uebungsplan-jugendfeuerwehr-lang-goens/icalrepea
 t.detail/2026/12/04/2095/-/jahresabschluss-weihnachtsfeier?tmpl=component</
 a>DTSTAMP:20260423T131647
DTSTART;TZID=Europe/Berlin:20261204T180000
DTEND;TZID=Europe/Berlin:20261204T200000
SEQUENCE:0
TRANSP:OPAQUE
END:VEVENT
END:VCALENDAR